BEGIN:VCALENDAR
VERSION:2.0
PRODID:-//wp-events-plugin.com//7.2.3.1//EN
TZID:Europe/Warsaw
X-WR-TIMEZONE:Europe/Warsaw
BEGIN:VEVENT
UID:45736@night4u.pl
DTSTART;TZID=Europe/Warsaw:20200310T200000
DTEND;TZID=Europe/Warsaw:20200310T230000
DTSTAMP:20200331T140317Z
URL:https://night4u.pl/wydarzenia/lubie-gadac-z-leonardem-piosenki-leonard
 a-cohena-w-klasztorze/
SUMMARY:Lubię gadać z Leonardem - piosenki Leonarda Cohena w Klasztorze!
DESCRIPTION:"Lubię gadać z Leonardem" - piosenki Leonarda Cohena w Starym
  Klasztorze!\n\nKlub Stary Klasztor zaprasza 10 marca na koncert "Lubię g
 adać z Leonardem"\, w którym znakomity bard Marcin Styczeń zaprezentuje
  piosenki Leonarda Cohena w swoich autorskich tłumaczeniach. \n\nKoncert 
 "Lubię gadać z Leonardem" to wybór 11 piosenek Leonarda Cohena z jego t
 rzech ostatnich albumów w wykonaniu i w tłumaczeniach pieśniarza Marcin
 a Stycznia. Do tej pory nikt w Polsce nie wykonywał tych utworów. Nie by
 ło także tłumaczeń\, ponieważ największy popularyzator twórczości 
 kanadyjskiego barda Maciej Zembaty zmarł w 2011 roku. Jest to zatem dzie
 ło pionierskie. Wszystkie tłumaczenia zostały zaakceptowane przez spadk
 obierców Leonarda Cohena. W koncercie pojawią się także nieśmiertelne
  przeboje kanadyjskiego barda "Alleluja"\, "Wieża pieśni" czy "Słynny n
 iebieski prochowiec"\, "Tańcz mnie po miłości kres"\n\n10.03.20 godz.20
 .00 Sala Gotycka w Starym Klasztorze\, ul. Purkyniego 1\nMARCIN STYCZEŃ "
 Lubię gadać z Leonardem"\nmiejsca siedzące: 50 zł –  przedsprzedaż\
 , 60 zł - w dniu koncertu\nmiejsca stojące: 35 zł - przedsprzedaż\, 40
  zł - w dniu koncertu\n\nBilety dostępne w serwisach: www.staryklasztor.
 com.pl/bilety/\, www.eventim.pl\, www.ebilet.pl\, goingapp.pl\,  www.bilet
 yna.pl \nrezerwacje: bilety@o2.pl
ATTACH;FMTTYPE=image/jpeg:https://night4u.pl/wp-content/uploads/2020/01/14
 8570_image_84330218_2703804426401342_5500171179803017216_o.jpg
CATEGORIES:dolnośląskie
LOCATION:A2 - Centrum Koncertowe\, Góralska 5\, Wroclaw\, 53-610\, Poland
GEO:51.108613;17.001703
X-APPLE-STRUCTURED-LOCATION;VALUE=URI;X-ADDRESS=Góralska 5\, Wroclaw\, 53-
 610\, Poland;X-APPLE-RADIUS=100;X-TITLE=A2 - Centrum Koncertowe:geo:51.108
 613,17.001703
END:VEVENT
BEGIN:VTIMEZONE
TZID:Europe/Warsaw
X-LIC-LOCATION:Europe/Warsaw
BEGIN:STANDARD
DTSTART:20191027T020000
TZOFFSETFROM:+0200
TZOFFSETTO:+0100
TZNAME:CET
END:STANDARD
END:VTIMEZONE
END:VCALENDAR