BEGIN:VCALENDAR
VERSION:2.0
PRODID:-//wp-events-plugin.com//7.2.3.1//EN
TZID:Europe/Warsaw
X-WR-TIMEZONE:Europe/Warsaw
BEGIN:VEVENT
UID:19692@night4u.pl
DTSTART;TZID=Europe/Warsaw:20190627T173000
DTEND;TZID=Europe/Warsaw:20190628T020000
DTSTAMP:20190619T190546Z
URL:https://night4u.pl/wydarzenia/lublin-it-8-after-party-lubelskiej-branz
 y-it/
SUMMARY:Lublin IT #8 + After Party lubelskiej branży IT
DESCRIPTION:Zapraszamy na kolejne spotkanie Lublin IT\, tym razem w nieco i
 nnej formie - połączone z imprezą integracyjną dla całej branży IT ?
  Wydarzenie odbędzie się w klubie Radość\, gdzie w przyjemnej atmosfer
 ze posłuchamy prezentacji technicznych\, a następnie przyjdzie czas na i
 ntegrację w luźnym klimacie z Perła https://lublin-it-8.evenea.pl/\n\n?
  HARMONOGRAM: ?\n17:30 - rozpoczęcie rejestracji\n18:05 - rozpoczęcie wy
 darzenia\, kilka słów od organizatorów Patryk Omiotek i Anna Pronczuk-O
 miotek\n18:15 - Krzysztof Karski - "Ruby on Rails 102: diving below Active
 Record"\n18:55 - Arkadiusz Gąsior - "Serverless data warehousing with GCP
 "\n19:45 - krótka przerwa\n20:05 - Patryk Omiotek - "Amazon DynamoDB 101"
 \n\n\n? REJESTRACJA:\nSpotkanie jest darmowe\, ale obowiązuje rejestracja
 : https://lublin-it-8.evenea.pl/\n\n? MIEJSCE SPOTKANIA:\n➡ Radość (na
  terenie Browarów Perła)\, ul. Bernardyńska 15\n\n✍ WSPÓŁPRACA:\nJe
 śli chcesz wystąpić z prelekcją lub chcesz zostać Partnerem wydarzeni
 a\, napisz do nas na adres: kontakt@lublinit.com\n\n? PRELEGENCI:\n➡ KRZ
 YSZTOF KARSKI\nDeveloper Ruby w firmie Codete. Od urodzenia mieszkaniec Lu
 blina. Absolwent Wydziału Filozofii i Socjologii na UMCS. Programowaniem 
 zawodowo zajmuje się od prawie 6 lat\, z czego 3 lata jako programista PH
 P i ponad 2 lata jako programista Ruby. Brał udział w tworzeniu wielu pr
 ojektów dla klientów z całego świata. Fan programowania back-endu w ap
 likacjach sieciowych. W wolnym czasie zajmuje się odkrywaniem nowych tech
 nologii i szeroko pojętą fantastyką.\n\nOpis prezentacji:\nPrezentacja 
 poświęcona jest budowaniu zapytań do bazy danych przy użyciu platformy
  Ruby on Rails. Przeznaczona zarówno dla doświadczonych programistów Ru
 by on Rails jak i osób\, które dopiero zaczynają lub chciałyby zaczą
 ć przygodę z tym środowiskiem. Coś ciekawego wyniosą z niej zapewne r
 ównież osoby zajmujące się programowaniem w innych językach aplikacji
 \, w których wymagany jest dostęp do bazy danych. Aby w pełni skorzysta
 ć z prezentacji wymagana jest podstawowa znajomość relacyjnych baz dany
 ch oraz SQL.\nW trakcie prezentacji przedstawiony zostanie przykład imple
 mentacji przybliżonego porównania ciągu znaków (fuzzy search) na wielu
  tabelach jednocześnie\, bez potrzeby ręcznego pisania zapytań SQL. Roz
 wiązanie bardzo przydatne przy przeszukiwaniu różnych zbiorów danych\,
  gdzie chcemy odfiltrować wyniki.\nOprócz implementacji samej metody tak
 iego wyszukiwania przedstawione zostaną przykłady użycia oraz sytuacje\
 , gdzie tego typu rozwiązania pomagają przy tworzeniu aplikacji sieciowy
 ch.\n\n➡ ​ARKADIUSZ GĄSIOR\nAbsolwent Wydziału MFI UMCS z wieloletni
 m stażem tworzenia rozwiązań w obszarze zarządzania danymi. Zdobywał 
 doświadczenie w projektowaniu oraz implementacji rozwiązań dla startup
 ów oraz korporacji w kraju i za granicą. Tworzył rozwiązania dla firm 
 z branży reklamowej\, finansowej oraz motoryzacyjnej. Od 4 lat zaangażow
 any w projekty związane z Google Cloud Platform.\n\nOpis prezentacji:\nPr
 ezentacja ma na celu zapoznanie uczestników z ekosystemem Google Cloud Pl
 atform w zakresie tworzenia hurtowni danych\, dostępnych narzędzi przetw
 arzania ETL oraz Artificial Intelligence. Materiał obejmie zagadnienia z 
 zakresu wydajności i skalowalności rozwiązań oraz tworzenia zaawansowa
 nych systemów bez angażowania twórcy w procesy zarządzania infrastrukt
 urą fizyczną.\n\n\n➡ ​PATRYK OMIOTEK\n\nPatryka możecie kojarzyć z
 e spotkań Lublin IT\, które współorganizuje. Na codzień jest programi
 stą JavaScript i Pyton w Intive\, gdzie implementuje rozwiązania dla glo
 balnych marek oraz startupów z Silicon Valley. \n\nOpis prezentacji: \n\n
 Powiem kiedy warto korzystać\, a kiedy raczej dać sobie spokój z Dynamo
 DB na podstawie case mojego chałupniczego projektu do monitorowania inter
 netu. \n\n\n? PARTNERZY\nDziękujemy firmom Lingaro (https://lingarogroup.
 com/)\, Codete ) oraz Intive (https://www.intive.com/) za wsparcie wydarze
 nia! :)\n\n\n----\nDO ZOBACZENIA i pamiętaj o rejestracji przez evenea :)
  https://lublin-it-8.evenea.pl/
ATTACH;FMTTYPE=image/jpeg:https://night4u.pl/wp-content/uploads/2019/06/47
 436_image_63943498_895018977499633_4806648761679872000_o.jpg
CATEGORIES:lubelskie
LOCATION:Radość\, ul. Bernardyńska 15\, Lublin\, 20-950\, Poland
GEO:51.24424;22.5673
X-APPLE-STRUCTURED-LOCATION;VALUE=URI;X-ADDRESS=ul. Bernardyńska 15\, Lubl
 in\, 20-950\, Poland;X-APPLE-RADIUS=100;X-TITLE=Radość:geo:51.24424,22.5
 673
END:VEVENT
BEGIN:VTIMEZONE
TZID:Europe/Warsaw
X-LIC-LOCATION:Europe/Warsaw
BEGIN:DAYLIGHT
DTSTART:20190331T030000
TZOFFSETFROM:+0100
TZOFFSETTO:+0200
TZNAME:CEST
END:DAYLIGHT
END:VTIMEZONE
END:VCALENDAR