BEGIN:VCALENDAR
VERSION:2.0
PRODID:-//wp-events-plugin.com//7.2.3.1//EN
TZID:Europe/Warsaw
X-WR-TIMEZONE:Europe/Warsaw
BEGIN:VEVENT
UID:50746@night4u.pl
DTSTART;TZID=Europe/Warsaw:20210610T190000
DTEND;TZID=Europe/Warsaw:20210610T210000
DTSTAMP:20210427T204131Z
URL:https://night4u.pl/wydarzenia/lublin-piotrek-szumowski-enzymy-i-piorun
 y/
SUMMARY:Lublin / Piotrek Szumowski / Enzymy i Pioruny
DESCRIPTION:Elo!\n\n\n\nPiotrek Szumowski - Komik Dookoła Świata\, Półc
 złowiek\, Półgłówek\, komik\, autor\, erudyta\, tancerz\, nie wojowni
 k. Ma za sobą tysiące przemierzonych kilometrów\, setki napisanych puen
 t i uśmiech wart miliona słów (Jak to uśmiech ma za sobą? Na tyle gł
 owy czy co?). Przed sobą i Wami: nowy program!\n"Enzymy i pioruny " zacz
 ęły się od pytania. Mniejsza jakiego\, ważne że odpowiedź na to pyta
 nie wywołało kolejne i tak dalej\, i tak dalej. Tak powstał ten materia
 ł- z pytań\, nie odpowiedzi. Nie pytaj dlaczego.\nSpodziewajcie się cha
 rakterystycznych dla Piotrka komediowych głębokich zanurzeń w tematy z 
 pozoru błahe\, zawsze opatrzonych trzeźwym spojrzeniem na własne możli
 wości i kiepską kondycję świata. Z pozoru mamy do czynienia z szerokim
  naiwniakiem\, który potrzebuje mapy by wyjść z toalety. Tak naprawdę 
 zawsze wychodzi oknem\, by zmylić wrogów.\nPiotrek\, niczym żaba z kont
 uzją pośladków\, będzie skakał po tematach bez przystanku\, ale każd
 y sus będzie kwitowany wybuchem śmiechu. Szykujcie się na mocne wyłado
 wanie stand-upu\, które zmienią Waszą dalszą percepcję obcowania z t
 ą formą sceniczną.\nLub nie\, ale na pewno nie będzie to czas zmarnowa
 ny.\n\n+ support \n\n\nBilety: 35zł \n           45zł - w dniu wydarzeni
 a (o ile zostaną)\n\nWydarzenie dla dorosłych!\n\n* Nagrywanie występu 
 w formie audio i video jest zabronione \n* Bilet nie daje prawa do przeszk
 adzania występującym. Organizator zastrzega sobie prawo - wyproszenia pr
 zeszkadzającej osoby\, bez możliwości zwrotu za bilety.
ATTACH;FMTTYPE=image/jpeg:https://night4u.pl/wp-content/uploads/2021/04/18
 4927_image_120103636_1761517717335459_2364954193783324525_n.jpg
CATEGORIES:lubelskie
LOCATION:Klub Studencki Kazik\, ul. Nadbystrzycka 40A\, Lublin\, 20-618\, P
 oland
GEO:51.235135;22.547241
X-APPLE-STRUCTURED-LOCATION;VALUE=URI;X-ADDRESS=ul. Nadbystrzycka 40A\, Lub
 lin\, 20-618\, Poland;X-APPLE-RADIUS=100;X-TITLE=Klub Studencki Kazik:geo:
 51.235135,22.547241
END:VEVENT
BEGIN:VTIMEZONE
TZID:Europe/Warsaw
X-LIC-LOCATION:Europe/Warsaw
BEGIN:DAYLIGHT
DTSTART:20210328T030000
TZOFFSETFROM:+0100
TZOFFSETTO:+0200
TZNAME:CEST
END:DAYLIGHT
END:VTIMEZONE
END:VCALENDAR