BEGIN:VCALENDAR
VERSION:2.0
PRODID:-//wp-events-plugin.com//7.2.3.1//EN
TZID:Europe/Warsaw
X-WR-TIMEZONE:Europe/Warsaw
BEGIN:VEVENT
UID:51833@night4u.pl
DTSTART;TZID=Europe/Warsaw:20250523T170000
DTEND;TZID=Europe/Warsaw:20250525T000000
DTSTAMP:20250517T153049Z
URL:https://night4u.pl/wydarzenia/lublinalia-2025/
SUMMARY:Lublinalia 2025
DESCRIPTION:Jesteście gotowi? ⭐️\nNajwiększe i najbardziej wyczekiwan
 e studenckie święto powraca w wielkim stylu!\nPrzygotujcie się na 3 dni
  pełne niezapomnianych emocji!\n\nPoprzednie edycje pokazały\, że Lubli
 nalia to coś więcej niż festiwal – to celebracja studenckiego życia\
 , wolności i radości!\nBez względu na to\, czy jesteś studentem\, abso
 lwentem\, czy po prostu kochasz świetną zabawę – nie może Cię zabra
 knąć!\n\n📅 KIEDY: 23-25 maja 2025 r.\n📍GDZIE: Tereny Zielone Browa
 ru Perła\n🎟️ BILETY: Info wkrótce!\n\nKto dla Was zagra? Te karty o
 dkryjemy w najbliższym czasie 🤫\n\n23.05:\n▪️Żabson\n▪️Poparz
 eni Kawą Trzy\n▪️Miętha\n▪️Blacha 2115\n▪️Ikarvs\n▪️Gver
 illa\n▪️Bullet Haze\n\n24.05:\n▪️Bracia Figo Fagot\n▪️Wilki\n
 ▪️Meek\, Oh Why?\n▪️Otsochodzi\n▪️Młody Klakson\n▪️Dwa S
 ławy\n\n25.05:\n▪️IGO\n▪️Chivas\n▪️Catz ’n Dogz\n▪️LemO
 N\n▪️Kronkel Dom\n▪️DJ Zimny Gulasz\n▪️Arne\n\nObserwujcie\, z
 aproście znajomych i twórzcie z nami historię!\nWięcej szczegółów w
 krótce! 🔜\n\nZnajdziecie nas na:\nFacebooku: https://www.facebook.com/
 Lublinalia2024?mibextid=wwXIfr\nInstagramie: https://www.instagram.com/ldk
 s_lublinalia/\n\nWidzimy się! 🤙🏻\n\nOrganizatorami wydarzenia są S
 amorządy Studenckie lubelskich Uczelni:\n\n▪️ Uniwersytetu Marii Curi
 e–Skłodowskiej\n▪️ Uniwersytetu Medycznego\n▪️ Uniwersytetu Prz
 yrodniczego oraz\n▪️ Ośrodek Międzykulturowych Inicjatyw Twórczych 
 "Rozdroża"\n\nSponsorem głównym wydarzenia jest Perła - Browary Lubels
 kie.\n\nRegulamin wydarzenia - https://drive.google.com/file/d/1wOwUFBnL0W
 YuXNB5-16tg3NhTZM6dMcy/view?usp=sharing\n\n#lublinalia2025
ATTACH;FMTTYPE=image/jpeg:https://night4u.pl/wp-content/uploads/2025/05/Lu
 blinalia-2025.jpg
CATEGORIES:lubelskie
LOCATION:Bernardyńska 15\, Lublin\, Bernardyńska 15\, Lublin\, 
X-APPLE-STRUCTURED-LOCATION;VALUE=URI;X-ADDRESS=Bernardyńska 15\, Lublin\,
  ;X-APPLE-RADIUS=100;X-TITLE=Bernardyńska 15\, Lublin:geo:0,0
END:VEVENT
BEGIN:VTIMEZONE
TZID:Europe/Warsaw
X-LIC-LOCATION:Europe/Warsaw
BEGIN:DAYLIGHT
DTSTART:20250330T030000
TZOFFSETFROM:+0100
TZOFFSETTO:+0200
TZNAME:CEST
END:DAYLIGHT
END:VTIMEZONE
END:VCALENDAR