BEGIN:VCALENDAR
VERSION:2.0
PRODID:-//wp-events-plugin.com//7.2.3.1//EN
TZID:Europe/Warsaw
X-WR-TIMEZONE:Europe/Warsaw
BEGIN:VEVENT
UID:49449@night4u.pl
DTSTART;TZID=Europe/Warsaw:20200314T210000
DTEND;TZID=Europe/Warsaw:20200314T220000
DTSTAMP:20200331T140557Z
URL:https://night4u.pl/wydarzenia/lunatyk-koncert-w-klubie-awaria/
SUMMARY:Lunatyk - koncert w Klubie Awaria
DESCRIPTION:Lunatyk w Klubie Awaria! - zapraszamy na koncert w sobotę 14.0
 3\, start o godzinie 21 - wstęp wolny\n\nLunatyk - grupa wywodząca się 
 z małopolskiego Libiąża\, ich pierwszy studyjny album to według magazy
 nu Teraz Rock\, jeden z najciekawszych debiutów w 2019 roku - zabiera sł
 uchaczy do świata przestrzennych gitar\, skutecznych bitów i prostego pr
 zekazu.\n\nIch melodyjne\, radiowe kawałki zostały zauważone przez kilk
 a dużych rozgłośni\, m.in. Program Trzeci Polskiego Radia i Radio Rzesz
 ów.\n\nNa scenie klubu Awaria zagrają po raz pierwszy. W secie pojawią 
 się piosenki z płyty „Sztuczny uśmiech” oraz kilka całkowitych now
 ości.
ATTACH;FMTTYPE=image/jpeg:https://night4u.pl/wp-content/uploads/2020/03/17
 1441_image_88228573_3049841448367543_3288342036876361728_o.jpg
CATEGORIES:małopolskie
END:VEVENT
BEGIN:VTIMEZONE
TZID:Europe/Warsaw
X-LIC-LOCATION:Europe/Warsaw
BEGIN:STANDARD
DTSTART:20191027T020000
TZOFFSETFROM:+0200
TZOFFSETTO:+0100
TZNAME:CET
END:STANDARD
END:VTIMEZONE
END:VCALENDAR