BEGIN:VCALENDAR
VERSION:2.0
PRODID:-//wp-events-plugin.com//7.2.3.1//EN
TZID:Europe/Warsaw
X-WR-TIMEZONE:Europe/Warsaw
BEGIN:VEVENT
UID:16362@night4u.pl
DTSTART;TZID=Europe/Warsaw:20190524T210000
DTEND;TZID=Europe/Warsaw:20190525T040000
DTSTAMP:20190516T203745Z
URL:https://night4u.pl/wydarzenia/lush-catchup-ciechan-w-friends-colombina
 -club/
SUMMARY:LUSH: CatchUp & Ciechan w/ friends / Colombina Club
DESCRIPTION:?? Lush wraca do Polanicy! ??\nPo wielokrotnych wiadomościach 
 "Kiedy kolejna impreza?!" zdecydowaliśmy się wyjść wam na przeciw i z 
 przyjemnością kontynuować znaną wam już\, serię imprez\, przepełnio
 ną wszelakiego rodzaju muzyką elektroniczną (od basshouse'u\, do trapu\
 , aż po elektroniczny pop).\nOstatnie imprezy cieszyły się ogromem pozy
 tywnej energii\, mamy nadzieję\, że tym razem zdołacie to przebić!!!!\
 n\nZagrają dla was:\n- CatchUp (NNJL / MOJO Music)\n- Ciechan (MOJO Music
 )\n- The Traf (MOJO Music)\n- Prometh \n\nWarm up: Venstre\n\nStart: 21:00
 \nStop: 4:00\nTax: 15 zł\n\nBIERZCIE DO KIESZENI DOBRE HUMORKI I WPADAJCI
 E TŁUMNIE POTAŃCZYĆ RAZEM Z NAMI\n???\nGFX: GNGR\n\nREZERWACJE: +48 667
  227 838\nwww.colombinaclub.pl\nwww.facebook.com/ColombinaClub
ATTACH;FMTTYPE=image/jpeg:https://night4u.pl/wp-content/uploads/2019/05/40
 070_image_60026457_2009502479159733_5355667709503733760_o.jpg
CATEGORIES:dolnośląskie
LOCATION:Colombina Club\, ul. Zdrojowa 18\, Polanica-Zdrój\, 57-320\, Pola
 nd
GEO:50.416353;16.511335
X-APPLE-STRUCTURED-LOCATION;VALUE=URI;X-ADDRESS=ul. Zdrojowa 18\, Polanica-
 Zdrój\, 57-320\, Poland;X-APPLE-RADIUS=100;X-TITLE=Colombina Club:geo:50.
 416353,16.511335
END:VEVENT
BEGIN:VTIMEZONE
TZID:Europe/Warsaw
X-LIC-LOCATION:Europe/Warsaw
BEGIN:DAYLIGHT
DTSTART:20190331T030000
TZOFFSETFROM:+0100
TZOFFSETTO:+0200
TZNAME:CEST
END:DAYLIGHT
END:VTIMEZONE
END:VCALENDAR