BEGIN:VCALENDAR
VERSION:2.0
PRODID:-//wp-events-plugin.com//7.2.3.1//EN
TZID:Europe/Warsaw
X-WR-TIMEZONE:Europe/Warsaw
BEGIN:VEVENT
UID:6070@night4u.pl
DTSTART;TZID=Europe/Warsaw:20190202T200000
DTEND;TZID=Europe/Warsaw:20190203T030000
DTSTAMP:20190201T053246Z
URL:https://night4u.pl/wydarzenia/lutowe-love-2-02-sobota-twenty-club-dj-d
 nu/
SUMMARY:Lutowe Love - 2/02 (sobota) - Twenty Club @DJ DNU
DESCRIPTION:LUTOWE  Wódka 0\,5l + 1l napoju za 50zł (do godz 22)\n=> Whis
 ky 0\,7l + 1l Pepsi za 100zł (przez całą noc)\n\nWstęp:\n=> Studenci i
  Panie: do 22:00 - FREE! || Po 22:00 5zł\n=> Panowie 10zł\n\nRezerwacje:
 \n=> Telefonicznie: 887 688 886\n=> Online: www.bit.ly/twentyclub\n\n\n✮
 ✮✮ Patroni Medialni ✮✮✮\nRadio Eska\nTanio w mieście - Bydgoszc
 z\nInfo Bydgoszcz
ATTACH;FMTTYPE=image/jpeg:https://night4u.pl/wp-content/uploads/2019/02/18
 171_image_51050367_2233603296858308_6291701551870246912_o.jpg
CATEGORIES:kujawsko-pomorskie
LOCATION:Twenty Club &amp\; Garden\, Stary Rynek 20\, Bydgoszcz\, 85-530\, 
 Poland
GEO:53.121635;18.000337
X-APPLE-STRUCTURED-LOCATION;VALUE=URI;X-ADDRESS=Stary Rynek 20\, Bydgoszcz\
 , 85-530\, Poland;X-APPLE-RADIUS=100;X-TITLE=Twenty Club & Garden:geo:53.1
 21635,18.000337
END:VEVENT
BEGIN:VTIMEZONE
TZID:Europe/Warsaw
X-LIC-LOCATION:Europe/Warsaw
BEGIN:STANDARD
DTSTART:20181028T020000
TZOFFSETFROM:+0200
TZOFFSETTO:+0100
TZNAME:CET
END:STANDARD
END:VTIMEZONE
END:VCALENDAR