BEGIN:VCALENDAR
VERSION:2.0
PRODID:-//wp-events-plugin.com//7.2.3.1//EN
TZID:Europe/Warsaw
X-WR-TIMEZONE:Europe/Warsaw
BEGIN:VEVENT
UID:47458@night4u.pl
DTSTART;TZID=Europe/Warsaw:20200225T200000
DTEND;TZID=Europe/Warsaw:20200225T230000
DTSTAMP:20200331T142332Z
URL:https://night4u.pl/wydarzenia/lutowy-koncert-wroclawskiego-salonu-jack
 a-kaczmarskiego/
SUMMARY:Lutowy koncert Wrocławskiego Salonu Jacka Kaczmarskiego
DESCRIPTION:Drodzy!\nWszystko się poprzestawiało: za oknami - w lutym - w
 iosna\, a na Salonie zmiany: nasz towarzysz\, weteran Salonowych afterów 
 i koncertów\, Michał Dominiak\, opuszcza na dłuższy czas granice Ojczy
 zny i szuka szczęścia za Oceanem.\nZ tej to okazji uznaliśmy w gronie w
 iarusów za zasadne zorganizowanie koncertu pożegnalnego\, abyśmy sami m
 ogli podziękować Michałowi za lata jego aktywności a jemu samemu - nar
 obić apetytu na jeszcze więcej\, tak\, aby załatwił u Jankesów\, co m
 a załatwić\, i wracał tam (czyli tu)\, gdzie jego miejsce :)\n\nZatem: 
 25 lutego\, na scenie WSJK wystąpią dwa Michały: Jaworski i Dominiak. \
 nWiecie zatem\, że będzie to soczysty koncert Kaczmarowy\,\nDwie częśc
 i z przerwą plus after - to plan na wieczór i noc 25 lutego.\n\nWstęp w
 olny\, start jak zawsze o 2o.oo\n\nLiczymy na Wasza obecność\, pożegnaj
 my Michała tłumnie i sprawmy\, żeby chciał do nas wrócić!\n\nUdostę
 pniajcie info\, zapraszajcie znajomych\, wklejajcie linka z wydarzeniem\, 
 gdzie się da!\n\nDo zobaczenia!\nWasz $i
ATTACH;FMTTYPE=image/jpeg:https://night4u.pl/wp-content/uploads/2020/02/15
 8423_image_85177950_3373801802635366_7770398653750968320_n.jpg
CATEGORIES:dolnośląskie
LOCATION:A2 - Centrum Koncertowe\, Góralska 5\, Wroclaw\, 53-610\, Poland
GEO:51.108613;17.001703
X-APPLE-STRUCTURED-LOCATION;VALUE=URI;X-ADDRESS=Góralska 5\, Wroclaw\, 53-
 610\, Poland;X-APPLE-RADIUS=100;X-TITLE=A2 - Centrum Koncertowe:geo:51.108
 613,17.001703
END:VEVENT
BEGIN:VTIMEZONE
TZID:Europe/Warsaw
X-LIC-LOCATION:Europe/Warsaw
BEGIN:STANDARD
DTSTART:20191027T020000
TZOFFSETFROM:+0200
TZOFFSETTO:+0100
TZNAME:CET
END:STANDARD
END:VTIMEZONE
END:VCALENDAR