BEGIN:VCALENDAR
VERSION:2.0
PRODID:-//wp-events-plugin.com//7.2.3.1//EN
TZID:Europe/Warsaw
X-WR-TIMEZONE:Europe/Warsaw
BEGIN:VEVENT
UID:5968@night4u.pl
DTSTART;TZID=Europe/Warsaw:20190216T190000
DTEND;TZID=Europe/Warsaw:20190216T220000
DTSTAMP:20190131T221041Z
URL:https://night4u.pl/wydarzenia/luxtorpeda-w-bialymstoku/
SUMMARY:Luxtorpeda w Białymstoku !
DESCRIPTION:Panie i Panowie\, Dziewczęta i Chłopacy\, czas leci jak ta la
 la. Roczek mija od ostatniej wizyty chłopaków w naszym mieście. Kapela 
 nagrywa właśnie nową płytę\, ale tak pokochali Białystok\, że posta
 nowili pochwalić się :) paroma gotowymi\, nowymi numerami przed premier
 ą. Hitów też nie zabraknie. \nLokalną scenę dumnie zareprezentuje Coc
 hise Zatem widzimy się :) Najlepszego Państwu :) \n\nDrzwi otwieramy o 1
 9.00\nStartujemy o 20.00 \n\nBilety w przedsprzedaży w cenie 40 pln\, dos
 tępne od 21.01. w:\n\n- Pub Fiction - ul. Suraska 1\n- Alchemia - ul. Lip
 owa 4\n- Roxy Burger - ul. Rynek Kościuszki 20\n- Pub 6-Ścian\, ul. Wars
 zawska 30\n- Sklep Amadeus - ul. Legionowa 9/1 lok. 151\n- Pub Strych - ul
 . Rynek Kościuszki 22 \n- Winylownia - ul. Podleśna 12 lok. 1 \n\nCena b
 iletu przy wejściu 50 pln.\n\nInformacje o rezerwacjach\, zniżkach dla z
 amiejscowych grup zorganizowanych po weekendzie. \n\nWspierają nas:\nBia
 łystokOnline.pl\nRadio Akadera
ATTACH;FMTTYPE=image/jpeg:https://night4u.pl/wp-content/uploads/2019/01/17
 945_image_50512864_965786636943786_5242785927331315712_n.jpg
CATEGORIES:podlaskie
LOCATION:Herkulesy klub\, Mickiewicza 2c\, Białystok\, 15-222\, Poland
GEO:53.129396;23.167055
X-APPLE-STRUCTURED-LOCATION;VALUE=URI;X-ADDRESS=Mickiewicza 2c\, Białystok
 \, 15-222\, Poland;X-APPLE-RADIUS=100;X-TITLE=Herkulesy klub:geo:53.129396
 ,23.167055
END:VEVENT
BEGIN:VTIMEZONE
TZID:Europe/Warsaw
X-LIC-LOCATION:Europe/Warsaw
BEGIN:STANDARD
DTSTART:20181028T020000
TZOFFSETFROM:+0200
TZOFFSETTO:+0100
TZNAME:CET
END:STANDARD
END:VTIMEZONE
END:VCALENDAR