BEGIN:VCALENDAR
VERSION:2.0
PRODID:-//wp-events-plugin.com//7.2.3.1//EN
TZID:Europe/Warsaw
X-WR-TIMEZONE:Europe/Warsaw
BEGIN:VEVENT
UID:16844@night4u.pl
DTSTART;TZID=Europe/Warsaw:20190525T235900
DTEND;TZID=Europe/Warsaw:20190526T120000
DTSTAMP:20190522T094225Z
URL:https://night4u.pl/wydarzenia/luzztro-records-w-adam-obrebski-b-day/
SUMMARY:Luzztro Records w/ Adam Obrębski B-Day
DESCRIPTION:Kolejna odsłona Luzztro Records Showcase wypada 25-go maja\, a
  tak się składa\, że to jest to dokładnie dzień moich urodzin.\nZ tej
  okazji chciałem zaprosić na specjalna edycję tego wydarzenia\, gdzie d
 zięki uprzejmości mojego ukochanego klubu Luzztro oraz labelu Luzztro Re
 cords\, będę mógł celebrować ten dzień jak na rezydenta przystało! 
 \nŚwiętować będziemy w tym roku na dwóch salach. Muzycznie będziecie
  mogli doświadczyć tego\, co w duszy mi gra najbardziej.\nTym samym chc
 ę podziękować za to\, jak po zaledwie 3 latach udało mi się zadomowi
 ć w tym miejscu na dobre i z sukcesem przekazuję swoją wizję muzyki.\n
 \nPostanowiłem odejść od "rodzinnej" formuły zaproszenia wielu DJ'ów 
 i skupić się na spójności muzycznej.\n\nZ tej okazji zagramy w niespot
 kanym do tej pory zestawieniu All Night Long:\nRED: Nie Bój Się Elektron
 iki NBSE\nVS.\nBLACK: PIUR\n\nPlus mój urodzinowy\, przygotowany specjaln
 ie na okazję set solo na Czarnej.\n\nDodatkowo\, aby przełamać męską 
 dominację na DJ'ce\, postanowiliśmy zaprosić dwie kobiety\, które w ty
 m roku "wystrzeliły" i ewidentnie zaznaczają swoją muzyczną obecność
 \, popartą rosnącą lawinowo popularnością wśród publiczności:\nBLA
 CK: MERVH\nRED: Paulina Dębowska\n\nZnając życie DJ'ów będzie jednak 
 więcej i impreza "wyleci" spod kontroli\, czego nieskromnie sobie życzę
  :D\nWasza obecność będzie dla mnie największym prezentem i chciałbym
  zobaczyć Was Wszystkich tego dnia w klubie.\n\nMusic: Tech-House\, Progr
 essive\, Melodic Techno\nStart: 0:00\nEnd: Never
ATTACH;FMTTYPE=image/jpeg:https://night4u.pl/wp-content/uploads/2019/05/41
 281_image_60670453_2767632213309407_3930848945126768640_o.jpg
CATEGORIES:mazowieckie
LOCATION:Luzztro\, Aleje Jerozolimskie 6\, Warsaw\, 00-374\, Poland
GEO:52.232779;21.023655
X-APPLE-STRUCTURED-LOCATION;VALUE=URI;X-ADDRESS=Aleje Jerozolimskie 6\, War
 saw\, 00-374\, Poland;X-APPLE-RADIUS=100;X-TITLE=Luzztro:geo:52.232779,21.
 023655
END:VEVENT
BEGIN:VTIMEZONE
TZID:Europe/Warsaw
X-LIC-LOCATION:Europe/Warsaw
BEGIN:DAYLIGHT
DTSTART:20190331T030000
TZOFFSETFROM:+0100
TZOFFSETTO:+0200
TZNAME:CEST
END:DAYLIGHT
END:VTIMEZONE
END:VCALENDAR