BEGIN:VCALENDAR
VERSION:2.0
PRODID:-//wp-events-plugin.com//7.2.3.1//EN
TZID:Europe/Warsaw
X-WR-TIMEZONE:Europe/Warsaw
BEGIN:VEVENT
UID:40402@night4u.pl
DTSTART;TZID=Europe/Warsaw:20191219T210000
DTEND;TZID=Europe/Warsaw:20191220T000000
DTSTAMP:20191219T211616Z
URL:https://night4u.pl/wydarzenia/lv-sonsofhaggisquiz/
SUMMARY:LV #SonsOfHaggisQuiz
DESCRIPTION:Ostatni w tym roku Quiz. Mamy nadzieję\, że Was nie zabraknie
 . :) Na pewno nie będzie nic o Kevinie i Harrym Potterze. :) Przybywajcie
 \, bawcie się dobrze i pnijcie w klasyfikacji generalnej. :)
ATTACH;FMTTYPE=image/jpeg:https://night4u.pl/wp-content/uploads/2019/12/12
 2015_image_80258475_2531213586997738_3225790154652254208_o.jpg
CATEGORIES:dolnośląskie
LOCATION:Haggis Pub\, Świdnicka 39\, Wroclaw\, 50-029\, Poland
GEO:51.10386;17.03029
X-APPLE-STRUCTURED-LOCATION;VALUE=URI;X-ADDRESS=Świdnicka 39\, Wroclaw\, 5
 0-029\, Poland;X-APPLE-RADIUS=100;X-TITLE=Haggis Pub:geo:51.10386,17.03029
END:VEVENT
BEGIN:VTIMEZONE
TZID:Europe/Warsaw
X-LIC-LOCATION:Europe/Warsaw
BEGIN:STANDARD
DTSTART:20191027T020000
TZOFFSETFROM:+0200
TZOFFSETTO:+0100
TZNAME:CET
END:STANDARD
END:VTIMEZONE
END:VCALENDAR