BEGIN:VCALENDAR
VERSION:2.0
PRODID:-//wp-events-plugin.com//7.2.3.1//EN
TZID:Europe/Warsaw
X-WR-TIMEZONE:Europe/Warsaw
BEGIN:VEVENT
UID:42578@night4u.pl
DTSTART;TZID=Europe/Warsaw:20200116T210000
DTEND;TZID=Europe/Warsaw:20200117T000000
DTSTAMP:20200116T211632Z
URL:https://night4u.pl/wydarzenia/lvi-sonsofhaggisquiz/
SUMMARY:LVI #SonsOfHaggisQuiz
DESCRIPTION:Nowy Rok\, nowe pytania. :) Tym razem staniemy na wysokości za
 dania i będą bajecznie proste. \;)\n\nI mała prośba\, wpisujcie\, jaki
 e drużyny będą i w jakiej liczbie\, ułatwi to odpowiednią rezerwację
  stolików.\n\nNa razie pewne miejsca mają WidzieliGo!\, Cwele i Ambiwaln
 ięci. :)\n\nDo zobaczenia!
ATTACH;FMTTYPE=image/jpeg:https://night4u.pl/wp-content/uploads/2020/01/13
 4485_image_81442389_2581126895339740_4953875662151614464_o.jpg
CATEGORIES:dolnośląskie
LOCATION:Haggis Pub\, Świdnicka 39\, Wroclaw\, 50-029\, Poland
GEO:51.10386;17.03029
X-APPLE-STRUCTURED-LOCATION;VALUE=URI;X-ADDRESS=Świdnicka 39\, Wroclaw\, 5
 0-029\, Poland;X-APPLE-RADIUS=100;X-TITLE=Haggis Pub:geo:51.10386,17.03029
END:VEVENT
BEGIN:VTIMEZONE
TZID:Europe/Warsaw
X-LIC-LOCATION:Europe/Warsaw
BEGIN:STANDARD
DTSTART:20191027T020000
TZOFFSETFROM:+0200
TZOFFSETTO:+0100
TZNAME:CET
END:STANDARD
END:VTIMEZONE
END:VCALENDAR