BEGIN:VCALENDAR
VERSION:2.0
PRODID:-//wp-events-plugin.com//7.2.3.1//EN
TZID:Europe/Warsaw
X-WR-TIMEZONE:Europe/Warsaw
BEGIN:VEVENT
UID:47113@night4u.pl
DTSTART;TZID=Europe/Warsaw:20200213T210000
DTEND;TZID=Europe/Warsaw:20200214T000000
DTSTAMP:20200213T211628Z
URL:https://night4u.pl/wydarzenia/lviii-sonsofhaggisquiz/
SUMMARY:LVIII SonsOfHaggisQuiz
DESCRIPTION:13 lutego\, ale nie w piątek\, tylko jak zwykle w czwartek zap
 raszamy na LVIII już #SonsOfHaggisQuiz. Na pewno nie będzie pytań z Har
 rego Pottera\, żużla\, fizyki jądrowej\, futsalu\, ambitnego kina irań
 skiego.\nMamy nadzieję\, że te podpowiedzi pomogą Wam zastanowić się 
 nad kategoriami\, które mogą być i dzięki temu do quizu odpowiednio si
 ę przygotować. :)
ATTACH;FMTTYPE=image/jpeg:https://night4u.pl/wp-content/uploads/2020/02/15
 6928_image_84328009_2650489198403509_2352534208573865984_n.jpg
CATEGORIES:dolnośląskie
LOCATION:Haggis Pub\, Świdnicka 39\, Wroclaw\, 50-029\, Poland
GEO:51.10386;17.03029
X-APPLE-STRUCTURED-LOCATION;VALUE=URI;X-ADDRESS=Świdnicka 39\, Wroclaw\, 5
 0-029\, Poland;X-APPLE-RADIUS=100;X-TITLE=Haggis Pub:geo:51.10386,17.03029
END:VEVENT
BEGIN:VTIMEZONE
TZID:Europe/Warsaw
X-LIC-LOCATION:Europe/Warsaw
BEGIN:STANDARD
DTSTART:20191027T020000
TZOFFSETFROM:+0200
TZOFFSETTO:+0100
TZNAME:CET
END:STANDARD
END:VTIMEZONE
END:VCALENDAR