BEGIN:VCALENDAR
VERSION:2.0
PRODID:-//wp-events-plugin.com//7.2.3.1//EN
TZID:Europe/Warsaw
X-WR-TIMEZONE:Europe/Warsaw
BEGIN:VEVENT
UID:27868@night4u.pl
DTSTART;TZID=Europe/Warsaw:20190928T210000
DTEND;TZID=Europe/Warsaw:20190929T040000
DTSTAMP:20190916T211814Z
URL:https://night4u.pl/wydarzenia/mad-mike-guitar-fire-show-28-09-wstep-10
 -15-20-zl/
SUMMARY:Mad Mike Guitar Fire Show // 28.09 // Wstęp: 10\, 15\, 20 zł
DESCRIPTION:[ENGLISH VERSION BELOW]\n\nMad Mike Guitar Fire Show to najbard
 ziej energetyczny liveact łączący rockowe riffy z muzyką klubową. \n\
 nMa na swoim koncie występy z czołówką polskiej sceny pop (m.in. Volve
 r\, Mariusz Totoszko\, Doda\, Honey\, Afromental\, Tomek Lubert\, Stachurs
 ky\, Ania Dąbrowska\, Asia Ash). Występował na największych imprezach 
 w kraju (Polsat Top Trendy\, Festiwal Piosenki w Opolu\, Sylwester z Polsa
 tem\, Eska Hity Na Czasie). \n\nJest też półfinalistą 6 i 7 edycji Mus
 t Be The Music Polska.\n\nJesteśmy pewni\, że to będzie najlepsza impre
 za w mieście - nie może Cię zabraknąć!\n\nWSTĘP:\n21:00 - 22:00 - 10
  zł\n22:00 - 23:00 - 15 zł\npo 23:00 - 20 zł\nUWAGA: klub przeznaczony 
 jest dla osób powyżej 25 roku życia - osoby młodsze nie zostaną wpusz
 czone do klubu (nawet mimo rezerwacji loży).\n\nREZERWACJE STOLIKÓW (WY
 ŁĄCZNIE ONLINE):\nhttp://krakow.klub30.pl/rezerwacje\n\nRezerwacje włą
 czane są z 2 tygodniowym wyprzedzeniem!\n--------------------------------
 ------\n\n[ENGLISH VERSION]\n\nYou haven't got plans for a weekend? Now yo
 u have! Come to Klub30 and have a party with the best people\, experience 
 the tastiest drinks and dance to the best music. \n\nKlub30 - the best clu
 b for thirty-somethings!\n--------------------------------------\nENTRY:\n
 21:00-22:00 - 10 PLN\n22:00-23:00 - 15 PLN\nafter 23:00 - 20 PLN\n--------
 ------------------------------
ATTACH;FMTTYPE=image/jpeg:https://night4u.pl/wp-content/uploads/2019/09/64
 778_image_70694553_2427634854226667_2708959456976175104_o.jpg
CATEGORIES:małopolskie
LOCATION:Klub30 Kraków\, T. Kościuszki 3\, Kraków\, 30-105\, Poland
GEO:50.05513;19.92665
X-APPLE-STRUCTURED-LOCATION;VALUE=URI;X-ADDRESS=T. Kościuszki 3\, Kraków\
 , 30-105\, Poland;X-APPLE-RADIUS=100;X-TITLE=Klub30 Kraków:geo:50.05513,1
 9.92665
END:VEVENT
BEGIN:VTIMEZONE
TZID:Europe/Warsaw
X-LIC-LOCATION:Europe/Warsaw
BEGIN:DAYLIGHT
DTSTART:20190331T030000
TZOFFSETFROM:+0100
TZOFFSETTO:+0200
TZNAME:CEST
END:DAYLIGHT
END:VTIMEZONE
END:VCALENDAR