BEGIN:VCALENDAR
VERSION:2.0
PRODID:-//wp-events-plugin.com//7.2.3.1//EN
TZID:Europe/Warsaw
X-WR-TIMEZONE:Europe/Warsaw
BEGIN:VEVENT
UID:1459@night4u.pl
DTSTART;TZID=Europe/Warsaw:20181229T210000
DTEND;TZID=Europe/Warsaw:20181230T060000
DTSTAMP:20181228T234513Z
URL:https://night4u.pl/wydarzenia/made-in-poland-29-12-do-2200-wejscie-fre
 e/
SUMMARY:Made in Poland // 29.12 // Do 22:00 wejście free
DESCRIPTION:Zapraszamy na sobotni przegląd nieśmiertelnych klasyków z la
 t 70/80/90/00 i największych Polskich hitów ♥ Nasi rezydenci wprowadz
 ą Was w taneczne rytmy z najwyższej połki! :D I jak zawsze\, czeka Was 
 zabawa do rana :)\n\n-------------------------------------------------\nDo
  22:00 lista FB FREE\n22:00-23:00 - 10zl \nPo 23:00 - 15zl \n\nBilet wstę
 pu obowiązuje do lokali:\nHelium Club\nRzut Beretem\nEl Cubano\n\nseats &
  tables/ rezerwacje stolików\n☎️: 725700205 (wt-sob. 17:00-20:00)\nWe
 jście 18+ / DOOR SELECTION
ATTACH;FMTTYPE=image/jpeg:https://night4u.pl/wp-content/uploads/2018/12/68
 09_image_49205068_1678658648947677_8198634939298611200_o.jpg
CATEGORIES:lubelskie
LOCATION:Rzut Beretem\, Hempla 5\, Lublin\, 20-008\, Poland
GEO:51.245421;22.557279
X-APPLE-STRUCTURED-LOCATION;VALUE=URI;X-ADDRESS=Hempla 5\, Lublin\, 20-008\
 , Poland;X-APPLE-RADIUS=100;X-TITLE=Rzut Beretem:geo:51.245421,22.557279
END:VEVENT
BEGIN:VTIMEZONE
TZID:Europe/Warsaw
X-LIC-LOCATION:Europe/Warsaw
BEGIN:STANDARD
DTSTART:20181028T020000
TZOFFSETFROM:+0200
TZOFFSETTO:+0100
TZNAME:CET
END:STANDARD
END:VTIMEZONE
END:VCALENDAR