BEGIN:VCALENDAR
VERSION:2.0
PRODID:-//wp-events-plugin.com//7.2.3.1//EN
TZID:Europe/Warsaw
X-WR-TIMEZONE:Europe/Warsaw
BEGIN:VEVENT
UID:36101@night4u.pl
DTSTART;TZID=Europe/Warsaw:20191130T200000
DTEND;TZID=Europe/Warsaw:20191201T090000
DTSTAMP:20191129T103602Z
URL:https://night4u.pl/wydarzenia/magiczne-andrzejki-%e2%9c%ae-weekend-293
 0-11-w-bostonie/
SUMMARY:Magiczne Andrzejki ✮ Weekend 29\,30.11 w Bostonie!
DESCRIPTION:Zapowiadamy dwu dniowy-Andrzejkowy balet! W ten weekend zabierz
  przyjaciół i wpadajcie do Bostonu\, gwarantujemy doskonałą zabawę pr
 zez cały wieczór \;) O najlepszą muzykę graną z pasją zadbają DJ-e 
 Diablo oraz Oks.\n\nPROMOCJA-WRÓŻYMY DOBRĄ ZABAWĘ!\nW ciągu całej im
 prezy losowane będą promocyjne alkohole\, które przez pewien czas sprze
 dawać będziemy -50%. Po upływie czasu zmieniać będziemy promocyjny al
 kohol na kolejny :)\nPierwsze losowanie o 22:00!\nW promocji biorą udzia
 ł:\n-2 rumy - Captain Morgan White oraz Spiced\n-2 wódki - Żubrówka Bi
 ala oraz Gorzka Żołądkowa Tradycyjna\n-2 whisky - Ballantines oraz Jim 
 Beam White\n-2 piwa - Warka oraz Żywiec Keg\n\nStartujemy o godzinie 20:0
 0\nWstęp free przez całą noc!\n\nPo 4:00 zapraszamy natomiast na najlep
 sze szczecińskie Afterparty! Niezmiennie serwujemy wybrane alkohole x2\n(
 piwo\, wódka\, rum\, whisky) i bawimy się do białego rana! \n\nRezerwac
 je 91 433 55 02 lub Facebook Boston Pub w wiadomości prywatnej!
ATTACH;FMTTYPE=image/jpeg:https://night4u.pl/wp-content/uploads/2019/11/97
 377_image_72151159_2514773678560349_8300727810868117504_o-3.jpg
CATEGORIES:zachodniopomorskie
LOCATION:Boston Pub\, ul. Niepodległości 22\, Szczecin\, 70-412\, Poland
GEO:53.42664;14.55225
X-APPLE-STRUCTURED-LOCATION;VALUE=URI;X-ADDRESS=ul. Niepodległości 22\, S
 zczecin\, 70-412\, Poland;X-APPLE-RADIUS=100;X-TITLE=Boston Pub:geo:53.426
 64,14.55225
END:VEVENT
BEGIN:VTIMEZONE
TZID:Europe/Warsaw
X-LIC-LOCATION:Europe/Warsaw
BEGIN:STANDARD
DTSTART:20191027T020000
TZOFFSETFROM:+0200
TZOFFSETTO:+0100
TZNAME:CET
END:STANDARD
END:VTIMEZONE
END:VCALENDAR