BEGIN:VCALENDAR
VERSION:2.0
PRODID:-//wp-events-plugin.com//7.2.3.1//EN
TZID:Europe/Warsaw
X-WR-TIMEZONE:Europe/Warsaw
BEGIN:VEVENT
UID:18191@night4u.pl
DTSTART;TZID=Europe/Warsaw:20190727T200000
DTEND;TZID=Europe/Warsaw:20190727T233000
DTSTAMP:20190603T203743Z
URL:https://night4u.pl/wydarzenia/major-spz-lustro-u-bazyla-poznan-27-07/
SUMMARY:Major SPZ "Lustro" | u Bazyla / Poznań 27.07
DESCRIPTION:Major SPZ powraca! "LUSTRO" to drugi legalny album szczeciński
 ego Rapera\, który będzie miał swoją premierę w Maju tego roku. Z tej
  okazji organizujemy koncert premierowy\, na którym zostanie zaprezentowa
 ny po raz pierwszy materiał z nowego wydawnoctwa. Nie zabraknie również
  najbardziej znanych klasyków! \n\n• Miejsce: U Bazyla\n• Data: 27.07
 .2019\n• Godzina: 20:00\n\nBilety: https://ticketos.pl/event/2107/\n\nKo
 ncert:\nMAJOR SPZ\n\nBilety w cenie:\n30 zł - I pula  \n35 zł - II pula\
 n40 zł - w dniu imprezy\n150 zł - bilet VIP\n\nW cenie biletu VIP:\n- Ws
 tęp do klubu\n- Opaska VIP\n- Wstęp na backstage\n- Płytę z autografem
 \n- Próba dźwięku\n\nWięcej informacji o wydarzeniu wkrótce!\n\nUWAGA
 !\nOsoby poniżej 16 roku życia mogą wziąć udział w koncercie tylko p
 od opieką osoby dorosłej i na wyłączną odpowiedzialność osoby doros
 łej\, pod której pieczą pozostaje\, po nabyciu biletów wstępu zarówn
 o dla osoby małoletniej jak i dorosłej.\n\nOsoby niepełnoletnie\, któr
 e ukończyły 16 lat\, mogą uczestniczyć w koncercie pod warunkiem posia
 dania ważnego biletu oraz podpisanej zgody opiekunów prawnych na uczestn
 ictwo w imprezie.
ATTACH;FMTTYPE=image/jpeg:https://night4u.pl/wp-content/uploads/2019/06/43
 997_image_62062985_634023597115027_9106648874587521024_o.jpg
CATEGORIES:wielkopolskie
END:VEVENT
BEGIN:VTIMEZONE
TZID:Europe/Warsaw
X-LIC-LOCATION:Europe/Warsaw
BEGIN:DAYLIGHT
DTSTART:20190331T030000
TZOFFSETFROM:+0100
TZOFFSETTO:+0200
TZNAME:CEST
END:DAYLIGHT
END:VTIMEZONE
END:VCALENDAR