BEGIN:VCALENDAR
VERSION:2.0
PRODID:-//wp-events-plugin.com//7.2.3.1//EN
TZID:Europe/Warsaw
X-WR-TIMEZONE:Europe/Warsaw
BEGIN:VEVENT
UID:28532@night4u.pl
DTSTART;TZID=Europe/Warsaw:20191206T210000
DTEND;TZID=Europe/Warsaw:20191207T000000
DTSTAMP:20191206T171542Z
URL:https://night4u.pl/wydarzenia/major-spz-w-krakowie-koncert-premierowy/
SUMMARY:MAJOR SPZ w Krakowie | Koncert premierowy
DESCRIPTION:GOOD TIMES crew zaprasza na premierowy koncert MAJORA w Krakowi
 e !\n\nPo sukcesie krążka Lustro Major wjeżdża z Nitro do 5 największ
 ych polskich miast. Na każde z wydarzeń raper przygotował specjalnie do
 brany materiał zawierający nie tylko najnowsze numery\, ale też najwię
 ksze klasyki. Razem z Majorem przelecimy od Nielegli przez Towar aż po Lu
 stro i Nitro. \nLiczba biletów na koncerty jest limitowana\n______\n\n06.
 12.19\nDrzwi - 21:00\nKlub Studencki Żaczek - Kraków\, Al. 3 Maja 5 \n\n
 Bilety 35/40\nBilety VIP - 100zł ( Liczba bardzo ograniczona )\nBilety na
  bramce - 50zł\nDostępne:  https://goingapp.pl/evt/2158684/major-spz-w-k
 rakowie-koncert-premierowy\n____\nBILET VIP:\n- Wejście bez kolejki\n- Mo
 żliwość uczestnictwa w próbie przed koncertem\n- Zdjęcie z Majorem sp
 ecjalnym aparatem INSTAX (polaroid) z autografem \n- Podpisany przez Major
 a plakat koncertowy !\n- Identyfikator ViP
ATTACH;FMTTYPE=image/jpeg:https://night4u.pl/wp-content/uploads/2019/09/66
 045_image_71139934_3042657412627101_7281784598424453120_o.jpg
CATEGORIES:małopolskie
LOCATION:Klub Studencki Żaczek\, Al. 3 Maja 5\, Kraków\, 30-063\, Poland
GEO:50.060266;19.9223
X-APPLE-STRUCTURED-LOCATION;VALUE=URI;X-ADDRESS=Al. 3 Maja 5\, Kraków\, 30
 -063\, Poland;X-APPLE-RADIUS=100;X-TITLE=Klub Studencki Żaczek:geo:50.060
 266,19.9223
END:VEVENT
BEGIN:VTIMEZONE
TZID:Europe/Warsaw
X-LIC-LOCATION:Europe/Warsaw
BEGIN:STANDARD
DTSTART:20191027T020000
TZOFFSETFROM:+0200
TZOFFSETTO:+0100
TZNAME:CET
END:STANDARD
END:VTIMEZONE
END:VCALENDAR