BEGIN:VCALENDAR
VERSION:2.0
PRODID:-//wp-events-plugin.com//7.2.3.1//EN
TZID:Europe/Warsaw
X-WR-TIMEZONE:Europe/Warsaw
BEGIN:VEVENT
UID:32646@night4u.pl
DTSTART;TZID=Europe/Warsaw:20200117T200000
DTEND;TZID=Europe/Warsaw:20200123T230000
DTSTAMP:20200331T192110Z
URL:https://night4u.pl/wydarzenia/major-spz-we-wroclawiu-koncert-premierow
 y/
SUMMARY:Major SPZ we Wrocławiu! Koncert premierowy.
DESCRIPTION:Major SPZ wpadnie do Wrocławia z premierowym materiałem!\n\nR
 ok 2019 jest dla szczecińskiego reprezentanta Specnaz bardzo intensywny. 
 17 maja światło dzienne ujrzał album "Lustro". Muzycznie album wyprzedz
 a debiutanckiego legala artysty. Przepełniony jest mocnym i świeżym brz
 mieniem\, które nadali mu tacy producenci jak: Matheo\, Newlight$\, Kubi 
 Producent\, Ślimak\, DJ Frodo oraz Young Veteran$.\n\n20 września odbył
 a się premiera kolaboracji Majora z Matheo. Na "Nitro" pojawiło się 11 
 zupełnie nowych kawałków\, w których gościnnie udzielili się m.in. B
 iałas\, Szpaku\, Wac Toja\, Kizo czy Kabe.\n\nPodczas styczniowego koncer
 tu nie zabraknie także numerów z Nielegali i Towaru. \n\nGościnnie na s
 cenie także Kazior! \n\nLiczba biletów mocno limitowana!\n\nMajor x Kazi
 or "Tam gdzie ja" - https://www.youtube.com/watch?v=stFuX7J7xsw\nMajor x K
 abe "KREA7ORZY" - https://www.youtube.com/watch?v=etSOE4HctbU\nMajor "Odku
 rzacz" - https://www.youtube.com/watch?v=kSHQ0QGTSbQ\n\nSupporty:\n\nDwa A
 sy\nhttps://www.youtube.com/watch?v=x2FuwCB4LMU&amp\;feature=youtu.be&amp\
 ;fbclid=IwAR1XF9_oy4OXZsm-P3gTRYVmeIq9E1HTI-xsisFyuWDnqmhEoG9ySJO7NBQ\nJas
 ny\nhttps://www.youtube.com/watch?v=jCePXiLzeko\nWS CRU\nhttps://www.youtu
 be.com/watch?v=1rjKMsrLqMM\n\nAfter:\nVixa Attack • Gashmaker we Wrocła
 wiu!\n\n++++++++\n\n17.01.20 (piątek)\nD.K. Luksus\nWita Stwosza 16\, Wro
 cław\n\nstart: 20:00 \nbilety online na TICKETOS. PL\nhttps://ticketos.pl
 /event/2603/major-spz-wroclaw\n\nBilety: \n/ 30zł - pierwsza pula - SOLD 
 OUT\n/ 40zł - druga pula \n/ 45zł - w dniu koncertu\n\nBILETY VIP\n- wej
 ście bez kolejki\n- możliwość uczestnictwa w próbie \n- zdjęcie z MA
 JREM z autografem\n- plakat z autografem NAJORA SPZ\n- pakiet wlepek \n- i
 dentyfikator VIP
ATTACH;FMTTYPE=image/jpeg:https://night4u.pl/wp-content/uploads/2020/01/79
 709_image_82592039_802657490251636_1354663115001692160_o.jpg
CATEGORIES:dolnośląskie
LOCATION:D.K. Luksus\, Wita Stwosza 16\, Wroclaw\, 50-148\, Poland
GEO:51.10958;17.03678
X-APPLE-STRUCTURED-LOCATION;VALUE=URI;X-ADDRESS=Wita Stwosza 16\, Wroclaw\,
  50-148\, Poland;X-APPLE-RADIUS=100;X-TITLE=D.K. Luksus:geo:51.10958,17.03
 678
END:VEVENT
BEGIN:VTIMEZONE
TZID:Europe/Warsaw
X-LIC-LOCATION:Europe/Warsaw
BEGIN:STANDARD
DTSTART:20191027T020000
TZOFFSETFROM:+0200
TZOFFSETTO:+0100
TZNAME:CET
END:STANDARD
END:VTIMEZONE
END:VCALENDAR