BEGIN:VCALENDAR
VERSION:2.0
PRODID:-//wp-events-plugin.com//7.2.3.1//EN
TZID:Europe/Warsaw
X-WR-TIMEZONE:Europe/Warsaw
BEGIN:VEVENT
UID:14188@night4u.pl
DTSTART;TZID=Europe/Warsaw:20190503T140000
DTEND;TZID=Europe/Warsaw:20190503T220000
DTSTAMP:20190429T194950Z
URL:https://night4u.pl/wydarzenia/majowe-grillowanie-porkgrill-legionowo/
SUMMARY:Majowe Grillowanie - Pork&Grill Legionowo
DESCRIPTION:3 maja przy DPD Arena Legionowo odbędzie się Majowe Grilowani
 e pod hasłem Pork&Grill!\n\nZapraszamy wszystkich od godziny 14:00\, kied
 y to rozpocznie się  konkurs w grillowaniu. Wśród atrakcji znajdą się
 :\n\n-  kiermasz "kuchnie świata"\n-  giga patelnia\n- animacje\, dmucha
 ńce.\n\nKoncerty:\n\n17:00 Beat Boys\n18:00 Miły Pan\n19:00 Masters\n20:
 00 Power Play
ATTACH;FMTTYPE=image/jpeg:https://night4u.pl/wp-content/uploads/2019/04/35
 486_image_56611701_1347946632010198_5281572703239667712_n.jpg
CATEGORIES:mazowieckie
LOCATION:Legionowo Porusza\, ul. Piłsudskiego 41\, Legionowo\, 05-120\, Po
 land
GEO:52.39517;20.93131
X-APPLE-STRUCTURED-LOCATION;VALUE=URI;X-ADDRESS=ul. Piłsudskiego 41\, Legi
 onowo\, 05-120\, Poland;X-APPLE-RADIUS=100;X-TITLE=Legionowo Porusza:geo:5
 2.39517,20.93131
END:VEVENT
BEGIN:VTIMEZONE
TZID:Europe/Warsaw
X-LIC-LOCATION:Europe/Warsaw
BEGIN:DAYLIGHT
DTSTART:20190331T030000
TZOFFSETFROM:+0100
TZOFFSETTO:+0200
TZNAME:CEST
END:DAYLIGHT
END:VTIMEZONE
END:VCALENDAR