BEGIN:VCALENDAR
VERSION:2.0
PRODID:-//wp-events-plugin.com//7.2.3.1//EN
TZID:Europe/Warsaw
X-WR-TIMEZONE:Europe/Warsaw
BEGIN:VEVENT
UID:14533@night4u.pl
DTSTART;TZID=Europe/Warsaw:20190430T210000
DTEND;TZID=Europe/Warsaw:20190501T050000
DTSTAMP:20190430T144523Z
URL:https://night4u.pl/wydarzenia/majoweczka-w-m7-30-04-darmowy-wstep-do-2
 300/
SUMMARY:Majóweczka w M7 :: 30.04 :: Darmowy wstęp do 23:00
DESCRIPTION:Początek majóweczki w imprezowym klimacie !\n\nSpecjalnie dla
  Was przez całą noc \n2 butelki wódki Chortyca 0\,5 l + 2 x litrowy sof
 t za 120 zł !!!\n\n\n�drink wieczoru => 12 zł\n�wódka + Burn => 10 
 zł\n�oraz ponad 40 shotów w promocyjnej cenie 7-8 zł\n\n\nDaj znać s
 wojej ekipie!\n\n►►► start 21:00\nPanie darmowy wstęp do 23:00 !!\n
 \n\n♫☆ DJ Nefretete☆♫ \n\nseats & tables & vip room / rezerwacje m
 iejsc:\nAneta\ninfo@m7club.pl\n� +48 508 508 408
ATTACH;FMTTYPE=image/jpeg:https://night4u.pl/wp-content/uploads/2019/04/36
 149_image_58890846_2217883448271716_7064083976184397824_o.jpg
CATEGORIES:podlaskie
LOCATION:M7 CLUB\, Białystok\, Poland
GEO:53.133448;23.156648
X-APPLE-STRUCTURED-LOCATION;VALUE=URI;X-ADDRESS=Białystok\, Poland;X-APPLE
 -RADIUS=100;X-TITLE=M7 CLUB:geo:53.133448,23.156648
END:VEVENT
BEGIN:VTIMEZONE
TZID:Europe/Warsaw
X-LIC-LOCATION:Europe/Warsaw
BEGIN:DAYLIGHT
DTSTART:20190331T030000
TZOFFSETFROM:+0100
TZOFFSETTO:+0200
TZNAME:CEST
END:DAYLIGHT
END:VTIMEZONE
END:VCALENDAR