BEGIN:VCALENDAR
VERSION:2.0
PRODID:-//wp-events-plugin.com//7.2.3.1//EN
TZID:Europe/Warsaw
X-WR-TIMEZONE:Europe/Warsaw
BEGIN:VEVENT
UID:14512@night4u.pl
DTSTART;TZID=Europe/Warsaw:20190501T210000
DTEND;TZID=Europe/Warsaw:20190503T020000
DTSTAMP:20190430T144418Z
URL:https://night4u.pl/wydarzenia/majowka-grill-party/
SUMMARY:Majówka! GRILL PARTY
DESCRIPTION:Majówka! Najbardziej wyczekiwany długi weekend! ☀️\n\nKa
 żdy wybiera swój sposób na spędzenie tego czasu\, a my stawiamy na Mel
 anż! ?\n\nWidzimy się na co tygodniowym Karaoke ?\nBo u nas śpiewa się
  najlepiej!\nCo więcej...\n➡️Mamy jak zawsze dla Was nagrody!\nMyśli
 my\, że to będzie idealny czas na ich rozdanie :)\n➡️W trakcie trwan
 ia Karaoke - Shot studencki! Tylko 2 PLN ?\n\nBarmani i Barmanki na pewno 
 poradzą sobie z najbardziej wybrednymi gustami. Zaufajcie im ??\n\n➡️
 01.05 - Karaoke\n➡️02.05 - Karaoke\n➡️03.05 - Świętujemy na park
 iecie - balety!\n➡️ Start 21:00\n➡️ Wstęp FREE ?
ATTACH;FMTTYPE=image/jpeg:https://night4u.pl/wp-content/uploads/2019/04/36
 105_image_58727395_1724363517666080_4596485252993515520_o.jpg
CATEGORIES:zachodniopomorskie
LOCATION:Melanż\, ul.ks. Bogusława X 9\, Szczecin\, 70-440\, Poland
GEO:53.42934;14.54378
X-APPLE-STRUCTURED-LOCATION;VALUE=URI;X-ADDRESS=ul.ks. Bogusława X 9\, Szc
 zecin\, 70-440\, Poland;X-APPLE-RADIUS=100;X-TITLE=Melanż:geo:53.42934,14
 .54378
END:VEVENT
BEGIN:VTIMEZONE
TZID:Europe/Warsaw
X-LIC-LOCATION:Europe/Warsaw
BEGIN:DAYLIGHT
DTSTART:20190331T030000
TZOFFSETFROM:+0100
TZOFFSETTO:+0200
TZNAME:CEST
END:DAYLIGHT
END:VTIMEZONE
END:VCALENDAR