BEGIN:VCALENDAR
VERSION:2.0
PRODID:-//wp-events-plugin.com//7.2.3.1//EN
TZID:Europe/Warsaw
X-WR-TIMEZONE:Europe/Warsaw
BEGIN:VEVENT
UID:14548@night4u.pl
DTSTART;TZID=Europe/Warsaw:20190501T210000
DTEND;TZID=Europe/Warsaw:20190502T040000
DTSTAMP:20190430T145145Z
URL:https://night4u.pl/wydarzenia/majowka-studencka-lista-fb-free-01-05-19
 /
SUMMARY:Majówka studencka // Lista FB Free // 01.05.19
DESCRIPTION:? Lista FB - wstęp FREE! \n⬇ Dołącz do wydarzenia ⬇\n\nT
 egoroczna majówka zapowiada się w klimacie typowo barowym ??\nW środę 
 więc tradycyjnie czekamy na Was UltraViolet Exclusive Club Kielce gdzie p
 ogoda nie ma żadnego wpływu na dobrą zabawę! \n\nDla wszystkich studen
 tów:\n• studencka WARKA 0\,5l - 5zł ?\n• shoty i wybrane driny -50% 
 ?\n• flaszka z sokiem -50% ❤\n\nWszyscy\, którzy:\n• WEZMĄ UDZIAŁ
  w wydarzeniu\, \nwchodzą do klubu do 22:00 za FREE! (listę zamykamy w d
 niu imprezy o 18:00) z legitymacją studencką\n• 22:00 - 23:00 - studen
 ci 5 PLN\n• po 23:00 - studenci 10zł\n• reszta świata - 10zł przez 
 całą noc\n• darmowe rezerwacje 518-820-320 \n\nDo zobaczenia! ??
ATTACH;FMTTYPE=image/jpeg:https://night4u.pl/wp-content/uploads/2019/04/36
 183_image_59414646_2172455329468352_7505876445533569024_n.jpg
CATEGORIES:świętokrzyskie
LOCATION:UltraViolet - Exclusive Club\, ul. Sienkiewicza 33\, Kielce\, 25-0
 05\, Poland
GEO:50.87148;20.62637
X-APPLE-STRUCTURED-LOCATION;VALUE=URI;X-ADDRESS=ul. Sienkiewicza 33\, Kielc
 e\, 25-005\, Poland;X-APPLE-RADIUS=100;X-TITLE=UltraViolet - Exclusive Clu
 b:geo:50.87148,20.62637
END:VEVENT
BEGIN:VTIMEZONE
TZID:Europe/Warsaw
X-LIC-LOCATION:Europe/Warsaw
BEGIN:DAYLIGHT
DTSTART:20190331T030000
TZOFFSETFROM:+0100
TZOFFSETTO:+0200
TZNAME:CEST
END:DAYLIGHT
END:VTIMEZONE
END:VCALENDAR