BEGIN:VCALENDAR
VERSION:2.0
PRODID:-//wp-events-plugin.com//7.2.3.1//EN
TZID:Europe/Warsaw
X-WR-TIMEZONE:Europe/Warsaw
BEGIN:VEVENT
UID:13819@night4u.pl
DTSTART;TZID=Europe/Warsaw:20190425T210000
DTEND;TZID=Europe/Warsaw:20190426T030000
DTSTAMP:20190425T215631Z
URL:https://night4u.pl/wydarzenia/majowkowy-before-z-wmii/
SUMMARY:Majówkowy Before z WMiI
DESCRIPTION:Studenci ‼️\nCzujecie już ten zapach z grilli majówkowych
  ❓ Bo My już tak ?\n\nJuż 25.04 w @Club Antałek o godzinie 21:00 do 3
 :00 najgrubszy Before tego roku ‼️???\nNajtłustsze bity będzie zapod
 awał Nasz nie zastąpiony DJ ROCKNOIZE??\n\nWedług prastarej kortowskiej
  legendy "Kto zachla dnia poprzedniego ten następnego dnia jest nie do pr
 zepicia" ?Więc\, nie wahajcie się wpadajcie ?‼️ By w majówkę wytrz
 ymać do końca ???\n\nStudenci - 5zł\nPozostali - 10zł
ATTACH;FMTTYPE=image/jpeg:https://night4u.pl/wp-content/uploads/2019/04/34
 653_image_58376613_2400389876704536_6677064537566347264_o.jpg
CATEGORIES:warmińsko-mazurskie
LOCATION:Club Antałek\, ul\,Oczapowskiego 9\, Ds-3 Kortowo\, Olsztyn\, 10-
 719\, Poland
GEO:53.755574;20.460456
X-APPLE-STRUCTURED-LOCATION;VALUE=URI;X-ADDRESS=ul\,Oczapowskiego 9\, Ds-3 
 Kortowo\, Olsztyn\, 10-719\, Poland;X-APPLE-RADIUS=100;X-TITLE=Club Antał
 ek:geo:53.755574,20.460456
END:VEVENT
BEGIN:VTIMEZONE
TZID:Europe/Warsaw
X-LIC-LOCATION:Europe/Warsaw
BEGIN:DAYLIGHT
DTSTART:20190331T030000
TZOFFSETFROM:+0100
TZOFFSETTO:+0200
TZNAME:CEST
END:DAYLIGHT
END:VTIMEZONE
END:VCALENDAR