BEGIN:VCALENDAR
VERSION:2.0
PRODID:-//wp-events-plugin.com//7.2.3.1//EN
TZID:Europe/Warsaw
X-WR-TIMEZONE:Europe/Warsaw
BEGIN:VEVENT
UID:30969@night4u.pl
DTSTART;TZID=Europe/Warsaw:20191026T210000
DTEND;TZID=Europe/Warsaw:20191027T020000
DTSTAMP:20250901T211255Z
URL:https://night4u.pl/wydarzenia/make-new-friends-in-warsaw-party/
SUMMARY:Make New Friends in Warsaw + Latino Party
DESCRIPTION:Interested in meeting new people and make new friends in Warsaw
 ? Come and join the biggest international community in Warsaw for Saturday
  night drinks. The focus of this event is socializing and meeting people w
 ith similar interests\, languages and more.\n\nHow does this event look?\n
 \nWe first meet at 21:00\,  at ClubBoho22 were we have a private space onl
 y for the Warsaw Yeddel group. The music will be low and this will be a gr
 eat opportunity to mix and mingle with the biggest international community
  in Warsaw. At 23:00 we will all then move as a large group to Fiesta Lati
 na Warsaw. One of the best Latino club in Warsaw\n\nThis event is free for
  those that have a profile on our website. It is free to create. Just show
  your profile at the door for free entry:\n\nhttps://yeddel.com/register/\
 n\nPlease beware that we only get free entry as one large group. If you ar
 rive late you will need to pay the full door price.\n\n*******************
 *******\n\nThis event is brought to you by Warsaw Yeddel. \n\nThe aim of W
 arsaw Yeddel is to help internationals in Warsaw integrate with the locals
 . We have a large member base of Polish\, but we also have members from En
 gland\, Germany\, Spain\, France\, Russia\, China and many other counties 
 and languages spoken!\n\nWorried about coming alone? Don’t be! We are al
 l very welcoming and here is a video message from your event hosts Robert 
 and Joanna:\n\nhttps://youtu.be/-FGqdH1Lqd8
ATTACH;FMTTYPE=image/jpeg:https://night4u.pl/wp-content/uploads/2019/10/71
 664_image_73342324_1149020885288815_850193964563693568_n.jpg
CATEGORIES:mazowieckie
LOCATION:Karova\, Karowa 31\, Warsaw\, 00-324\, Poland
GEO:52.24257;21.018391
X-APPLE-STRUCTURED-LOCATION;VALUE=URI;X-ADDRESS=Karowa 31\, Warsaw\, 00-324
 \, Poland;X-APPLE-RADIUS=100;X-TITLE=Karova:geo:52.24257,21.018391
END:VEVENT
BEGIN:VTIMEZONE
TZID:Europe/Warsaw
X-LIC-LOCATION:Europe/Warsaw
BEGIN:DAYLIGHT
DTSTART:20190331T030000
TZOFFSETFROM:+0100
TZOFFSETTO:+0200
TZNAME:CEST
END:DAYLIGHT
BEGIN:STANDARD
DTSTART:20191027T020000
TZOFFSETFROM:+0200
TZOFFSETTO:+0100
TZNAME:CET
END:STANDARD
END:VTIMEZONE
END:VCALENDAR