BEGIN:VCALENDAR
VERSION:2.0
PRODID:-//wp-events-plugin.com//7.2.3.1//EN
TZID:Europe/Warsaw
X-WR-TIMEZONE:Europe/Warsaw
BEGIN:VEVENT
UID:27782@night4u.pl
DTSTART;TZID=Europe/Warsaw:20190928T213000
DTEND;TZID=Europe/Warsaw:20190929T060000
DTSTAMP:20190916T110305Z
URL:https://night4u.pl/wydarzenia/make-pinokio-great-again/
SUMMARY:Make Pinokio great again
DESCRIPTION:It is only a beggining...\n28.09 Chcemy Was serdecznie zaprosi
 ć do miejsca\, które na mapach klubowych polski jest jedyne w swoim rodz
 aju\, gdzie tradycja zderza się z nowoczesną wizją\, w której oddajemy
  Wam największą i najnowocześniejszą przestrzeń kulturalno-klubową z
  duszą  nową energią oraz świeżą krwią i pomysłami\, której siła
  płynie szerokim strumieniem...Przekonajcie się sami! \n#backtotheroots\
 nStay tuned\, more info soon...
ATTACH;FMTTYPE=image/jpeg:https://night4u.pl/wp-content/uploads/2019/09/64
 571_image_69774745_2611493158872719_6912371330264334336_n.jpg
CATEGORIES:zachodniopomorskie
LOCATION:Pinokio Szczecin\, ul. Sikorskiego 29\, Szczecin\, 71-072\, Poland
GEO:53.42229;14.53015
X-APPLE-STRUCTURED-LOCATION;VALUE=URI;X-ADDRESS=ul. Sikorskiego 29\, Szczec
 in\, 71-072\, Poland;X-APPLE-RADIUS=100;X-TITLE=Pinokio Szczecin:geo:53.42
 229,14.53015
END:VEVENT
BEGIN:VTIMEZONE
TZID:Europe/Warsaw
X-LIC-LOCATION:Europe/Warsaw
BEGIN:DAYLIGHT
DTSTART:20190331T030000
TZOFFSETFROM:+0100
TZOFFSETTO:+0200
TZNAME:CEST
END:DAYLIGHT
END:VTIMEZONE
END:VCALENDAR