BEGIN:VCALENDAR
VERSION:2.0
PRODID:-//wp-events-plugin.com//7.2.3.1//EN
TZID:Europe/Warsaw
X-WR-TIMEZONE:Europe/Warsaw
BEGIN:VEVENT
UID:47888@night4u.pl
DTSTART;TZID=Europe/Warsaw:20200320T193000
DTEND;TZID=Europe/Warsaw:20200320T230000
DTSTAMP:20200318T192705Z
URL:https://night4u.pl/wydarzenia/malach-rufuz-koncert-piotrkow-trybunalsk
 i/
SUMMARY:Małach/Rufuz Koncert Piotrków Trybunalski
DESCRIPTION:Małach/ Rufuz oraz Lotty White Events ma przyjemność zaprosi
 ć na koncert premierowy albumu "Metryka" w Piotrkowie Trybunalskim.  \n\n
 Start imprezy: 20:00 \nCena biletów: 30/40zł \n\nBilety dostępne:  \n\n
 www.360clth.pl \n\n\nWstęp 16+
ATTACH;FMTTYPE=image/jpeg:https://night4u.pl/wp-content/uploads/2020/02/16
 1087_image_84177794_876979729409546_8489386697476276224_o.jpg
CATEGORIES:łódzkie
END:VEVENT
BEGIN:VTIMEZONE
TZID:Europe/Warsaw
X-LIC-LOCATION:Europe/Warsaw
BEGIN:STANDARD
DTSTART:20191027T020000
TZOFFSETFROM:+0200
TZOFFSETTO:+0100
TZNAME:CET
END:STANDARD
END:VTIMEZONE
END:VCALENDAR