BEGIN:VCALENDAR
VERSION:2.0
PRODID:-//wp-events-plugin.com//7.2.3.1//EN
TZID:Europe/Warsaw
X-WR-TIMEZONE:Europe/Warsaw
BEGIN:VEVENT
UID:25404@night4u.pl
DTSTART;TZID=Europe/Warsaw:20191116T190000
DTEND;TZID=Europe/Warsaw:20191116T230000
DTSTAMP:20191116T054135Z
URL:https://night4u.pl/wydarzenia/malach-rufuz-w-lodzi-koncert-premierowy/
SUMMARY:Małach &amp\; Rufuz w Łodzi ! | Koncert premierowy
DESCRIPTION:Klub SODA Underground Stage oraz Łódzkie Charaktery zapraszaj
 ą na PREMIEROWY koncert Małacha i Rufuza z albumem METRYKA !\n\n16.11.19
 \nMiejsce: SODA Underground Stage\, ul.Plac Komuny Paryskiej 6\nDrzwi - 19
 :00\n\nBilety\n35/40\n➡️Sosa-Store - Sukcesja \n➡️Nervous Shop - P
 iotrkowska 80\n➡️Polski Street Szop - Próchnika 5\nOnline: https://go
 ingapp.pl/evt/2141598/malach-rufuz-w-lodzi-koncert-premierowy\n_____\nBILE
 T VIP\n- Wejście bez kolejki\n- Możliwość uczestnictwa w próbie przed
  koncertem\n- Zdjęcie z Małachem i Rufuzem specjalnym aparatem INSTAX (p
 olaroid) z autografem  \n- Podpisany przez M&amp\;R  plakat koncertowy !\n
 - Smyczka Łódzkie Charaktery\nBARDZO LIMITOWANE BILETY VIP DOSTĘPNE JED
 YNIE W Sosa-Store W CENIE 100PLN\n\n_______\n„MetRyka” to piąta płyt
 a zespołu Małach/Rufuz. Jest pełna emocji jakie towarzyszą przyjacioł
 om w momencie znalezienia się w punkcie w jakim właśnie są. Dokonali t
 ego czego chcieli zamieniając szare klatki\, na których nie było perspe
 ktyw\, na własną firmę\, studio nagraniowe i stabilne życie. Opowiadaj
 ą o zachowaniach ludzi\, których spotykają na swojej drodze\, swoich da
 lszych planach oraz motywują do spełniania marzeń zachowując przy tym 
 swój uliczny sznyt znany słuchaczom od pierwszej wspólnej płyty.\n\nCh
 arakter krążka jest poważny ale nie smutny. Samo brzmienie nie da się 
 sklasyfikować jako konkretny podgatunek w rapie\, czemu odpowiada sam kol
 or okładki mieniący się przeróżnymi kolorami. Dzięki połączeniu kl
 asycznych próbek bębnów\, żywych instrumentów i zróżnicowanego temp
 a utworów wszystko jest bardzo smaczne i świeże. Za warstwę muzyczną 
 krążka odpowiadają Małach\, 2Check oraz Flame.\n\nMałach i Rufuz idą
  muzyką z duchem czasu przy tym dalej pozostając sobą.\n____\nWstęp +1
 6
ATTACH;FMTTYPE=image/jpeg:https://night4u.pl/wp-content/uploads/2019/08/59
 587_image_67358836_1990599957753166_1535145251461660672_n.jpg
CATEGORIES:łódzkie
LOCATION:SODA Underground Stage\, Plac Komuny Paryskiej 6\, Łódź\, 90-00
 7\, Poland
GEO:51.76518;19.45941
X-APPLE-STRUCTURED-LOCATION;VALUE=URI;X-ADDRESS=Plac Komuny Paryskiej 6\, 
 Łódź\, 90-007\, Poland;X-APPLE-RADIUS=100;X-TITLE=SODA Underground Stag
 e:geo:51.76518,19.45941
END:VEVENT
BEGIN:VTIMEZONE
TZID:Europe/Warsaw
X-LIC-LOCATION:Europe/Warsaw
BEGIN:STANDARD
DTSTART:20191027T020000
TZOFFSETFROM:+0200
TZOFFSETTO:+0100
TZNAME:CET
END:STANDARD
END:VTIMEZONE
END:VCALENDAR