BEGIN:VCALENDAR
VERSION:2.0
PRODID:-//wp-events-plugin.com//7.2.3.1//EN
TZID:Europe/Warsaw
X-WR-TIMEZONE:Europe/Warsaw
BEGIN:VEVENT
UID:19809@night4u.pl
DTSTART;TZID=Europe/Warsaw:20190627T210000
DTEND;TZID=Europe/Warsaw:20190628T050000
DTSTAMP:20190619T193724Z
URL:https://night4u.pl/wydarzenia/maluma-1111-tour-official-after-party-so
 pot/
SUMMARY:Maluma 11:11 Tour Official After Party SOPOT
DESCRIPTION:Kongo Bar wraz z PLX events\, Reggaeton Polska oraz  Maluma –
  11:11 World Tour – ERGO ARENA\, Gdańsk/Sopot na Oficjalne After Party 
 koncertu Malumy !\n\n\n27.06.2019 adres Monte Cassino 60 zmieni się w tr
 ójmiejskie serce muzyki reggaeton! Gdy Baby będzie odpoczywał w hotelu 
 po swoim występie\, my zapewnimy Wam przedłużenie wrażeń tego wyjątk
 owego wieczoru. \n\nPlan działania jest prosty: \n- najlepsze utwory regg
 aeton\n- pyszne drinki przygotowane przez naszych barmanów we - wszystkic
 h z dostępnych barów\n- chill out na tarasie z widokiem na sopockie Mont
 e Cassino\n-  jeszcze więcej reggaetonu granego przez naszych DJ'ów!\n\n
 Pojawią się również osoby odpowiedzialne za organizacje koncertu oraz 
 eventów pobocznych\, także jest to świetna okazja do nawiązania nowych
  przyjaźni w ramach wspólnej pasji\, jaką jest reggaeton. Nie jest plan
 owane pojawienie się samego Malumy.\n\n Wstęp do klubu jest darmowy dla 
 uczestników koncertu na ERGO ARENA\, bawimy się do 5 rano! \n Śledźcie
  stronę wydarzenia\, ponieważ będziemy informować Was na bieżąco odn
 ośnie szczegółów! \n\nWstęp od lat 18!\n\n\n Kongo Bar with PLX Event
 s\, Reggaeton Polska and fan club Maluma Polska are proud to invite you to
  official After Party of Maluma’s 11:11 show. \n\n 27.07.2019 Monte Cass
 ino 60 will be changed to reggaetoon’s heart of the city! When Baby will
  be resting after his performance in apartment\, we are going to provide y
 ou new thrills! Idea is simple: \n\n- best reaggeton music \n- tasty drink
 s mixed by our bartenders at all our available bars\n- chill out on terrac
 e with nice view to spot’s most famous boulevard - Bohaterów Monte Cass
 ino\n- more reaggeton tunes!\n\nThis evening you can meet people responsib
 le for organizing Maluma’s concert in Poland\, organizers of side events
 \, DJ’s and dancers\, as well as lots of reggaeton fans so it’s nice o
 pportunity to make new friendships. Maluma’s club appearance WON’T tak
 e place.\n\nEntry for after party is free for everyone who were at concert
  at ERGO ARENA. We’ll be celebrating until 5 in the morning!\n\nBe sure 
 to check out this site for updates!\n\nEvent is 18+ y.o.
ATTACH;FMTTYPE=image/jpeg:https://night4u.pl/wp-content/uploads/2019/06/47
 697_image_65261885_495694131171619_1702990460265431040_n.jpg
CATEGORIES:pomorskie
LOCATION:Kongo Bar\, Bohaterów Monte Cassino  60\, Sopot\, 81-759\, Poland
GEO:54.444433;18.568585999999982
X-APPLE-STRUCTURED-LOCATION;VALUE=URI;X-ADDRESS=Bohaterów Monte Cassino  6
 0\, Sopot\, 81-759\, Poland;X-APPLE-RADIUS=100;X-TITLE=Kongo Bar:geo:54.44
 4433,18.568585999999982
END:VEVENT
BEGIN:VTIMEZONE
TZID:Europe/Warsaw
X-LIC-LOCATION:Europe/Warsaw
BEGIN:DAYLIGHT
DTSTART:20190331T030000
TZOFFSETFROM:+0100
TZOFFSETTO:+0200
TZNAME:CEST
END:DAYLIGHT
END:VTIMEZONE
END:VCALENDAR