BEGIN:VCALENDAR
VERSION:2.0
PRODID:-//wp-events-plugin.com//7.2.3.1//EN
TZID:Europe/Warsaw
X-WR-TIMEZONE:Europe/Warsaw
BEGIN:VEVENT
UID:6368@night4u.pl
DTSTART;TZID=Europe/Warsaw:20190220T180000
DTEND;TZID=Europe/Warsaw:20190221T040000
DTSTAMP:20190204T004137Z
URL:https://night4u.pl/wydarzenia/mama-mia-dzisiaj-znowu-zachlam-ryja-5/
SUMMARY:Mama Mia! dzisiaj znowu zachlam ryja!
DESCRIPTION:O rany\, rany\, jestem niepokonany!\n2 hours later..\nOj chyba 
 nie....\n\nNie raz tak mieliście? No cóż od razu nikt się nie urodził
  ze złotem olimpijskim! Potrzeba lat treningów\,żeby osiągnąć mistrz
 ostwo i zebrać odpowiednio dużo czakry! 
ATTACH;FMTTYPE=image/jpeg:https://night4u.pl/wp-content/uploads/2019/02/18
 846_image_51214122_1333619260109285_221144855298965504_o.jpg
CATEGORIES:lubelskie
LOCATION:Ciepło Zimno\, Krakowskie Przedmieście 26\, Lublin\, 20-002\, Po
 land
GEO:51.2476;22.56312
X-APPLE-STRUCTURED-LOCATION;VALUE=URI;X-ADDRESS=Krakowskie Przedmieście 26
 \, Lublin\, 20-002\, Poland;X-APPLE-RADIUS=100;X-TITLE=Ciepło Zimno:geo:5
 1.2476,22.56312
END:VEVENT
BEGIN:VTIMEZONE
TZID:Europe/Warsaw
X-LIC-LOCATION:Europe/Warsaw
BEGIN:STANDARD
DTSTART:20181028T020000
TZOFFSETFROM:+0200
TZOFFSETTO:+0100
TZNAME:CET
END:STANDARD
END:VTIMEZONE
END:VCALENDAR