BEGIN:VCALENDAR
VERSION:2.0
PRODID:-//wp-events-plugin.com//7.2.3.1//EN
TZID:Europe/Warsaw
X-WR-TIMEZONE:Europe/Warsaw
BEGIN:VEVENT
UID:25864@night4u.pl
DTSTART;TZID=Europe/Warsaw:20191004T230000
DTEND;TZID=Europe/Warsaw:20191005T060000
DTSTAMP:20190830T162812Z
URL:https://night4u.pl/wydarzenia/mantra-pres-ben-rau-tama/
SUMMARY:Mantra pres. Ben Rau | Tama
DESCRIPTION:line-up:\nBen Rau\nAway with the fairies (Jakub Przewoźny & Ō
 kami)\nS E N\nlights&visuals:\nluminarion\n\ntax: 0 / 20 / 30 pln\n0 pln -
  lista fb "wezmę udział" do 24\n20 pln - lista fb "wezmę udział" do 1\
 n30 pln - pozostali\n\nBen Rau swoje pierwsze kroki w klubowym underground
 zie stawiał jako imprezowicz. Nieskończone godziny spędzone na parkieci
 e zaowocowały miłością do muzyki techno i house\, którą Ben uskutecz
 nia zarówno w studiu\, jak i za deckami. W 2016 założył wytwórnie Ink
 al i Meta\, w ramach których konsekwentnie realizuje swoją wizję tanecz
 nej elektroniki.
ATTACH;FMTTYPE=image/jpeg:https://night4u.pl/wp-content/uploads/2019/08/60
 554_image_68750716_2405942243060154_63752355648110592_o.jpg
CATEGORIES:wielkopolskie
LOCATION:Tama\, ul. Niezłomnych 2\, Poznan\, 61-714\, Poland
GEO:52.402524;16.922364
X-APPLE-STRUCTURED-LOCATION;VALUE=URI;X-ADDRESS=ul. Niezłomnych 2\, Poznan
 \, 61-714\, Poland;X-APPLE-RADIUS=100;X-TITLE=Tama:geo:52.402524,16.922364
END:VEVENT
BEGIN:VTIMEZONE
TZID:Europe/Warsaw
X-LIC-LOCATION:Europe/Warsaw
BEGIN:DAYLIGHT
DTSTART:20190331T030000
TZOFFSETFROM:+0100
TZOFFSETTO:+0200
TZNAME:CEST
END:DAYLIGHT
END:VTIMEZONE
END:VCALENDAR