BEGIN:VCALENDAR
VERSION:2.0
PRODID:-//wp-events-plugin.com//7.2.3.1//EN
TZID:Europe/Warsaw
X-WR-TIMEZONE:Europe/Warsaw
BEGIN:VEVENT
UID:39907@night4u.pl
DTSTART;TZID=Europe/Warsaw:20200111T210000
DTEND;TZID=Europe/Warsaw:20200112T050000
DTSTAMP:20200331T192959Z
URL:https://night4u.pl/wydarzenia/marc-van-linden-w-klub-studio-gorzow-wlk
 p-11-1-2020r-sobota/
SUMMARY:Marc Van Linden w Klub Studio Gorzów Wlkp! 11-1-2020r. Sobota
DESCRIPTION:Sobota 11.01.2020r. \nstart 21:00\n\nGość Specjalny:     \nMA
 RC VAN LINDEN\n+19\n\nBilety (dostępne w dniu imprezy w kasie klubu):\n20
 zł (do godziny 22:30 )\n30zł (po godzinie 22:30)\n\nInfo &amp\; Rezerwac
 je: 782 388 584
ATTACH;FMTTYPE=image/jpeg:https://night4u.pl/wp-content/uploads/2019/12/12
 0246_image_79759752_2864891496875280_7889661297036361728_o.jpg
CATEGORIES:lubuskie
LOCATION:Klub Studio Gorzów Wlkp\, ul.Chrobrego 2\, Gorzów Wielkopolski\,
  66-400\, Poland
GEO:52.733034;15.23686
X-APPLE-STRUCTURED-LOCATION;VALUE=URI;X-ADDRESS=ul.Chrobrego 2\, Gorzów Wi
 elkopolski\, 66-400\, Poland;X-APPLE-RADIUS=100;X-TITLE=Klub Studio Gorzó
 w Wlkp:geo:52.733034,15.23686
END:VEVENT
BEGIN:VTIMEZONE
TZID:Europe/Warsaw
X-LIC-LOCATION:Europe/Warsaw
BEGIN:STANDARD
DTSTART:20191027T020000
TZOFFSETFROM:+0200
TZOFFSETTO:+0100
TZNAME:CET
END:STANDARD
END:VTIMEZONE
END:VCALENDAR