BEGIN:VCALENDAR
VERSION:2.0
PRODID:-//wp-events-plugin.com//7.2.3.1//EN
TZID:Europe/Warsaw
X-WR-TIMEZONE:Europe/Warsaw
BEGIN:VEVENT
UID:36733@night4u.pl
DTSTART;TZID=Europe/Warsaw:20210527T180000
DTEND;TZID=Europe/Warsaw:20210527T220000
DTSTAMP:20210427T204153Z
URL:https://night4u.pl/wydarzenia/marek-dyjak-15-03-2020-klub-stodola/
SUMMARY:Marek Dyjak / Warszawa / Klub Stodoła
DESCRIPTION:📣Drodzy Państwo\,\n \nkoncert Marka Dyjaka w Klubie Stodoł
 a\, zaplanowany na 16 grudnia (wcześniej 15 marca\, 31 maja)\, został pr
 zełożony i odbędzie się w nowym terminie\, 27 maja 2021. 📅 Wszystki
 e dotychczas zakupione bilety automatycznie zachowują ważność dla nowe
 j daty! ✅\n \nPrzepraszamy za zaistniałe niedogodności\, jednak obowi
 ązujące obostrzenia uniemożliwiają nam realizację wydarzenia dla zapl
 anowanej liczby publiczności.\n \nWierzymy\, że zobaczymy się z Państw
 em w komplecie w maju! 🧡🙌\n\n🎟 Bilety dostępne w sprzedaży 👉
  bit.ly/MarekDyjak_Stodola\n\nTIMETABLE:\n18:00 - otwarcie drzwi\n19:30 - 
 początek koncertu\n\nGość specjalny: Zosia Hiszpańska \n\n27 maja 2021
  w Klubie Stodoła wystąpi Marek Dyjak! Artysta zaprezentuje materiał z 
 najnowszej płyty „Piękny Instalator”\, która ujrzała światło dzi
 enne 29 listopada. Album promują single "Miriam" oraz "Bez". Bilety na wy
 darzenie dostępne w sprzedaży! \n\n"Piękny instalator" to tytuł albumu
  Marka Dyjaka\, która ukazała się nakładem wydawnictwa Agora  29 listo
 pada 2019 roku. Jest to tytuł piosenki\, do tekstu Jana Kondraka\, która
  była próbą nawiązania do obrazu Jerzego Dudy-Gracza\, tą piosenką M
 arek Dyjak w 1995 roku wyśpiewał jedną z nagród Studenckiego Festiwalu
  Piosenki w Krakowie. \nJak sam mówi "Piosenka oczywiście została lekko
  zmodyfikowana\, wcześniej była strasznie agresywna i wulgarna\, co dał
 o mi nagrodę\, ale dziś nikt by jej nie chciał puścić w radiu\, dlate
 go na potrzeby tego albumu została troszeczkę zmiękczona". Na albumie t
 ę piosenkę Marek Dyjak zaśpiewał w duecie z raperem Vieniem. Gościnni
 e na krążku pojawi się także Renata Przemyk\, oraz Zosia Hiszpańska  
 młoda skrzypaczka\, grająca temat do muzyki z filmu „Jasminum” Zygmu
 nta Koniecznego\, do którego słowa na potrzeby piosenki „Miriam” nap
 isał Robert Kasprzycki.\nWokalista przyznaje\, że zmienia się nieco brz
 mienie i klimat tego albumu. Jak mówi "Będzie to inny rodzaj muzyki\, ni
 e umiem tego opisać. Musicie Państwo posłuchać. Wydaje mi się\, że n
 astąpił jakiś zwrot\, jakaś progresja."\nNa płycie znajdą się piose
 nki autorstwa Jana Kondraka\, Roberta Kasprzyckiego\, Jacka Musiatowicza\,
  Artura Andrusa\, Dariusza Milińskiego i Adama Struga\, oraz temat z film
 u „Jasminum” Zygmunta Koniecznego. Za produkcję muzyczną i opracowan
 ie całości materiału odpowiada Marek Tarnowski\, który od lat współp
 racuje z Artystą\, tworząc część Jego zespołu.  \n\nZAPRASZAMY\n\nBi
 lety (miejsca siedzące):\nKat. II - 79 PLN\nKat. I - 99 PLN\ndo kupienia 
 w kasie Klubu Stodoła (Warszawa ul. Batorego 10)\nSprzedaż internetowa: 
 www.stodola.pl\, www.ticketclub.pl \n\nPodane godziny są orientacyjne i m
 ogą ulec zmianie.\n\nKup kartę podarunkową klubu Stodoła i obdaruj kog
 oś bliskiego wyjątkowym koncertem. Szczegóły TUTAJ.\n\nOsoby poniżej 
 16 roku życia mogą uczestniczyć w koncercie wyłącznie pod opieką rod
 zica (lub wskazanego przez niego opiekuna).\nOsoby\, które ukończyły 16
  rok życia\, a nie ukończyły 18 roku życia muszą mieć przy sobie oś
 wiadczenie ze zgodą na udział w imprezie\, podpisane przez rodzica bąd
 ź prawnego opiekuna.\nPobierz oświadczenie:\nhttp://pliki.stodola.pl/Osw
 iadczenieOpiekunaKlubStodola.pdf\n\nWszelkie pytania dotyczące wsparcia o
 sób z problemami z poruszaniem się\, prosimy kierować na adres: niepeln
 osprawni@stodola.pl
ATTACH;FMTTYPE=image/jpeg:https://night4u.pl/wp-content/uploads/2021/04/10
 1190_image_126213488_10157276567491883_7679063754082680400_n.jpg
CATEGORIES:mazowieckie
LOCATION:klub Stodoła\, \, 
X-APPLE-STRUCTURED-LOCATION;VALUE=URI;X-ADDRESS=\, ;X-APPLE-RADIUS=100;X-TI
 TLE=klub Stodoła:geo:0,0
END:VEVENT
BEGIN:VTIMEZONE
TZID:Europe/Warsaw
X-LIC-LOCATION:Europe/Warsaw
BEGIN:DAYLIGHT
DTSTART:20210328T030000
TZOFFSETFROM:+0100
TZOFFSETTO:+0200
TZNAME:CEST
END:DAYLIGHT
END:VTIMEZONE
END:VCALENDAR