BEGIN:VCALENDAR
VERSION:2.0
PRODID:-//wp-events-plugin.com//7.2.3.1//EN
TZID:Europe/Warsaw
X-WR-TIMEZONE:Europe/Warsaw
BEGIN:VEVENT
UID:50859@night4u.pl
DTSTART;TZID=Europe/Warsaw:20211022T190000
DTEND;TZID=Europe/Warsaw:20211022T190000
DTSTAMP:20210908T144709Z
URL:https://night4u.pl/wydarzenia/margaret-maggie-vision-tour-sopot-22-10/
SUMMARY:Margaret - Maggie Vision Tour / Sopot / 22.10
DESCRIPTION:Ekskluzywna trasa koncertowa Maggie Vision Tour odbędzie się 
 w październiku 2021. Margaret zagra w Szczecinie\, Poznaniu\, Wrocławiu\
 , Sopocie i Warszawie\, i będzie promować swój najbardziej osobisty alb
 um.\n\nBlisko dwa lata po premierze płyty Gaja Hornby\, nominowanej do Fr
 yderyka w kategorii Album Roku Pop\, Margaret wraca z nowym krążkiem Mag
 gie Vision\, który z jednej strony jest wypadkową jej muzycznych fascyna
 cji – hip-hopem i nowoczesnymi brzmieniami urban music – a z drugiej k
 oniecznością opowiedzenia o ważnych rzeczach\, jakie ostatnio działy s
 ię w jej życiu oraz tuż obok.\n\nTo jest właściwie mój drugi debiut 
  – mówi o swojej nowej płycie – Maggie Vision – Margaret. Album\, 
 nagrany po polsku i wypełniony brzmieniami urban music\, to jak dotąd na
 jodważniejsze dzieło w dorobku artystki. Albo\, jak mówi sama Margaret\
 , najbardziej „jej”.
ATTACH;FMTTYPE=image/jpeg:https://night4u.pl/wp-content/uploads/2021/08/18
 5666_image_158223167_3874227939302372_7193209168471359041_n.jpg
CATEGORIES:pomorskie
LOCATION:Sfinks700\, Mamuszki 1\, Sopot\, 81-718\, Poland
GEO:54.448468;18.567313
X-APPLE-STRUCTURED-LOCATION;VALUE=URI;X-ADDRESS=Mamuszki 1\, Sopot\, 81-718
 \, Poland;X-APPLE-RADIUS=100;X-TITLE=Sfinks700:geo:54.448468,18.567313
END:VEVENT
BEGIN:VTIMEZONE
TZID:Europe/Warsaw
X-LIC-LOCATION:Europe/Warsaw
BEGIN:DAYLIGHT
DTSTART:20210328T030000
TZOFFSETFROM:+0100
TZOFFSETTO:+0200
TZNAME:CEST
END:DAYLIGHT
END:VTIMEZONE
END:VCALENDAR