BEGIN:VCALENDAR
VERSION:2.0
PRODID:-//wp-events-plugin.com//7.2.3.1//EN
TZID:Europe/Warsaw
X-WR-TIMEZONE:Europe/Warsaw
BEGIN:VEVENT
UID:4460@night4u.pl
DTSTART;TZID=Europe/Warsaw:20190122T193000
DTEND;TZID=Europe/Warsaw:20190122T223000
DTSTAMP:20190120T192018Z
URL:https://night4u.pl/wydarzenia/marian-lichtman-spotkanie-z-legenda-kzib
 -vol-10/
SUMMARY:Marian Lichtman // Spotkanie z legendą // KZIB vol. 10
DESCRIPTION:Kochani!\n\nW najnowszym wydaniu KZIB z okazji Dnia Dziadka zap
 raszamy Was na spotkanie z jednym z nestorów polskiej muzyki rozrywkowej.
 \n\nMarian Lichtman - Trubadurzy - żyjąca legenda\, perkusista\, wokalis
 ta\, kompozytor. Wraz z Krzysztofem Krawczykiem\, Sławomirem Kowalewskim\
 , Jerzym Krzemińskim i Bogdanem Borkowskim stworzył w 1963 roku zespół
  Trubadurzy\, w którym występuje do dzisiaj.\n\nArtysta wszechstronny\, 
 któremu nie straszny jest żaden gatunek muzyczny\, od jazzu\, przez hip-
 hop i disco polo\, po scat (dźwiękonaśladowczy freestyle :D). Ponad 50 
 lat na scenie\, a wciąż nie brakuje mu energii\, którą zaraża innych.
 \n\nNajlepszym dowodem na to\, że Marian jest wiecznie młody\, jest jego
  nominacja w plebiscycie Dziennik Łódzki i Express Ilustrowany do tytuł
 u "Człowiek Roku 2018" w kategorii kultura. Wesprzyjmy go\, wysyłając s
 msa o treści UKD.257 na numer 72355. \n\nWpadajcie\, a nie pożałujecie.
  Ten człowiek zainteresuje i rozbawi każdego. \;)
ATTACH;FMTTYPE=image/jpeg:https://night4u.pl/wp-content/uploads/2019/01/14
 782_image_50399549_340311403487126_5041677871857270784_n.jpg
CATEGORIES:łódzkie
LOCATION:6 dzielnica\, Piotrkowska 102\, Łódź\, 90-005\, Poland
GEO:51.765029;19.457371
X-APPLE-STRUCTURED-LOCATION;VALUE=URI;X-ADDRESS=Piotrkowska 102\, Łódź\,
  90-005\, Poland;X-APPLE-RADIUS=100;X-TITLE=6 dzielnica:geo:51.765029,19.4
 57371
END:VEVENT
BEGIN:VTIMEZONE
TZID:Europe/Warsaw
X-LIC-LOCATION:Europe/Warsaw
BEGIN:STANDARD
DTSTART:20181028T020000
TZOFFSETFROM:+0200
TZOFFSETTO:+0100
TZNAME:CET
END:STANDARD
END:VTIMEZONE
END:VCALENDAR