BEGIN:VCALENDAR
VERSION:2.0
PRODID:-//wp-events-plugin.com//7.2.3.1//EN
TZID:Europe/Warsaw
X-WR-TIMEZONE:Europe/Warsaw
BEGIN:VEVENT
UID:26882@night4u.pl
DTSTART;TZID=Europe/Warsaw:20190920T220000
DTEND;TZID=Europe/Warsaw:20190921T060000
DTSTAMP:20190907T180058Z
URL:https://night4u.pl/wydarzenia/marka-wlasna-s01e01-simobiskup/
SUMMARY:Marka Własna s01e01 | Simo&Biskup
DESCRIPTION:✨MARKA WŁASNA |  SimoBiskup✨\n(Każdy piątek w Próżnoś
 ci)\n\nJak gramy każdy wie.\nOd ponad półtorej dekady jesteśmy odpowie
 dzialni za najważniejsze imprezy cykliczne w tym mieście. \nPiątki w Al
 catraz\, czwartki w Blue Note\, środy w SQ. \nKażda z tych imprez ma con
 ajmniej siedmioletnią historię. Wychodzi na to\, że po prostu potrafimy
  grać i budować konsekwentnie klimat imprezy z tygodnia na tydzień.\n\n
 Od nowego sezonu obecni będziemy w Próżności\, w każdy piątek\, na s
 ali Szampańskiej.\nMuzycznie będzie miękko i przyjemnie\, obracać będ
 ziemy się wokół r'n'b\, rapu i pokrewnych brzmień. Tym samym\, szeroki
 m łukiem omijamy dźwięki\, wykręcone na syntezatorach tak mocno\, że 
 chciałyby przewiercić głowę na wylot. \nNaszą ambicją od dawna było
  stworzenie powtarzalnych imprez w weekend'y\, tak abyście bez oglądania
  line’upów czy szukania wydarzeń na Fejsie\, mogli śmiało wbić do k
 lubu wiedząc co Was czeka. Znaleźliśmy się wspólnie w tej idei z klub
 em Próżność\, mamy nadzieję\, że znajdziemy się i z Wami.\n\nSALA S
 ZAMPAŃSKA:\nSimoBiskup\n\n? WEJŚCIE:\n? - wstęp free\n Reszta Gości 20
 /25 PLN
ATTACH;FMTTYPE=image/jpeg:https://night4u.pl/wp-content/uploads/2019/09/62
 670_image_69496524_469523820445614_2428142855802322944_o.jpg
CATEGORIES:wielkopolskie
LOCATION:Próżność\, Niepodległości 8a\, Poznan\, 61-875\, Poland
GEO:52.405584;16.91872
X-APPLE-STRUCTURED-LOCATION;VALUE=URI;X-ADDRESS=Niepodległości 8a\, Pozna
 n\, 61-875\, Poland;X-APPLE-RADIUS=100;X-TITLE=Próżność:geo:52.405584,
 16.91872
END:VEVENT
BEGIN:VTIMEZONE
TZID:Europe/Warsaw
X-LIC-LOCATION:Europe/Warsaw
BEGIN:DAYLIGHT
DTSTART:20190331T030000
TZOFFSETFROM:+0100
TZOFFSETTO:+0200
TZNAME:CEST
END:DAYLIGHT
END:VTIMEZONE
END:VCALENDAR