BEGIN:VCALENDAR
VERSION:2.0
PRODID:-//wp-events-plugin.com//7.2.3.1//EN
TZID:Europe/Warsaw
X-WR-TIMEZONE:Europe/Warsaw
BEGIN:VEVENT
UID:32461@night4u.pl
DTSTART;TZID=Europe/Warsaw:20191018T210000
DTEND;TZID=Europe/Warsaw:20191019T050000
DTSTAMP:20191017T094453Z
URL:https://night4u.pl/wydarzenia/martin-zoom-vs-phil-novy-lista-fb-free-d
 o-2300/
SUMMARY:Martin ZOOM vs. Phil Novy - lista FB free do 23:00
DESCRIPTION:Początek kolejnego weekendu to doskonała okazja do świętowa
 nia. Zrelaksuj się po ciężkim tygodniu w pracy i przeżyj wyjątkową i
 mprezę.  Bądź z nami w #NHGdynia.\n\n\nMuzyka:\nMARTIN ZOOM\nPHIL NOVY\
 n\nWstęp płatny:  \n                        - lista fb do 23:00 wstęp w
 olny\n                          (listę zamykamy o 20.45)\n               
           aby znaleźć się na liście musisz lubić stronę Nowy        
 \n                          Harem i wziąć udział w  wydarzeniu!!\n     
                    - standardowy bilet wstępu:\n                         
 10 zł\,\n                          (upoważnia do jednorazowego wstępu n
 a imprezę\, \n                          regulamin dostępny przy wejściu
 \n                        - karty klubowe wstęp wolny\n\n\n*Wstęp "18+"\
 , w razie wątpliwości selekcjoner ma prawo poprosić o dokument potwierd
 zający wiek.\n** Strój wieczorowy\, modny\, klubowy\, niekoniecznie galo
 wy\, zdecydowanie nie sportowy. Wyglądaj dobrze\, czuj się komfortowo\, 
 spraw by inni mieli co podziwiać\;)    \n\nRezerwacje: \n                
      tel. +48 602-213-323 lub on line \n                     www.emenago.c
 om/i/nowyharem  \n                     *Regulamin i zasady rezerwacji - kl
 iknij link: \n                     https://tinyurl.com/zasadyrezerwacji
ATTACH;FMTTYPE=image/jpeg:https://night4u.pl/wp-content/uploads/2019/10/78
 009_image_72297946_653123338512605_3580809960906293248_n.jpg
CATEGORIES:pomorskie
LOCATION:Nowy Harem Gdynia\, 3 Maja 28\, Gdynia\, 81-364\, Poland
GEO:54.519089;18.535287
X-APPLE-STRUCTURED-LOCATION;VALUE=URI;X-ADDRESS=3 Maja 28\, Gdynia\, 81-364
 \, Poland;X-APPLE-RADIUS=100;X-TITLE=Nowy Harem Gdynia:geo:54.519089,18.53
 5287
END:VEVENT
BEGIN:VTIMEZONE
TZID:Europe/Warsaw
X-LIC-LOCATION:Europe/Warsaw
BEGIN:DAYLIGHT
DTSTART:20190331T030000
TZOFFSETFROM:+0100
TZOFFSETTO:+0200
TZNAME:CEST
END:DAYLIGHT
END:VTIMEZONE
END:VCALENDAR