BEGIN:VCALENDAR
VERSION:2.0
PRODID:-//wp-events-plugin.com//7.2.3.1//EN
TZID:Europe/Warsaw
X-WR-TIMEZONE:Europe/Warsaw
BEGIN:VEVENT
UID:33362@night4u.pl
DTSTART;TZID=Europe/Warsaw:20191031T220000
DTEND;TZID=Europe/Warsaw:20191101T060000
DTSTAMP:20191030T094916Z
URL:https://night4u.pl/wydarzenia/martwe-zlo-ostatnie-halloween-w-absyncie
 /
SUMMARY:Martwe Zło: Ostatnie Halloween w Absyncie!
DESCRIPTION:To będzie ostatnie halloween w Absyncie!\n\nPossessed Henriett
 a: Hey! I'll swallow your soul! Swallow your soul! Swallow your soul!\nAsh
  Ashley J. Williams: Swallow this!\n\nZagrają: MefjuDi &amp\; MNOW\n\n„
 You bastards! Give me back my hand!”\n\n#chodoabsa\n\n„Groovy!”
ATTACH;FMTTYPE=image/jpeg:https://night4u.pl/wp-content/uploads/2019/10/82
 770_image_74216805_10157565923268745_3382487835968798720_o.jpg
CATEGORIES:pomorskie
LOCATION:Cafe Absinthe Gdańsk\, Targ Węglowy(Teatr Wybrzeże)\, Gdansk\, 
 80-834\, Poland
GEO:54.350816;18.64826
X-APPLE-STRUCTURED-LOCATION;VALUE=URI;X-ADDRESS=Targ Węglowy(Teatr Wybrze
 że)\, Gdansk\, 80-834\, Poland;X-APPLE-RADIUS=100;X-TITLE=Cafe Absinthe G
 dańsk:geo:54.350816,18.64826
END:VEVENT
BEGIN:VTIMEZONE
TZID:Europe/Warsaw
X-LIC-LOCATION:Europe/Warsaw
BEGIN:STANDARD
DTSTART:20191027T020000
TZOFFSETFROM:+0200
TZOFFSETTO:+0100
TZNAME:CET
END:STANDARD
END:VTIMEZONE
END:VCALENDAR