BEGIN:VCALENDAR
VERSION:2.0
PRODID:-//wp-events-plugin.com//7.2.3.1//EN
TZID:Europe/Warsaw
X-WR-TIMEZONE:Europe/Warsaw
BEGIN:VEVENT
UID:46076@night4u.pl
DTSTART;TZID=Europe/Warsaw:20200206T210000
DTEND;TZID=Europe/Warsaw:20200207T120000
DTSTAMP:20200331T154629Z
URL:https://night4u.pl/wydarzenia/marysia-kasia-sweet-sixteen-ten-years-af
 ter-uro-specjal/
SUMMARY:Marysia &amp\; Kasia ~ SWEET sixteen ten years AFTER **uro specjał
 **
DESCRIPTION:** CZWARTEK SPECJAŁ ** prezentuje:\nSpecjalne wydanie pod opie
 ką Kasi i Marysi\, a tutaj wiadomość od nich:\n\nDZIEŃ DOBRY\, CZEŚĆ
  I CZOŁEM!!!1\n\nmamy (nie)przyjemność zaprosić wszystkich (nie)znajom
 ych i ich znajomych na huczną urodzinową fetę\, która odbędzie się n
 ie gdzie indziej\, jak w naszym drugim domu Święta Krowa.\n\nwieczór\, 
 noc i poranek ~~zresztą już nie pierwszy~~ umilą nam wybitni didżeje\,
  których zapewne wszyscy znacie i kochacie\, a jeśli nie\, to będziecie
  mieć ku temu idealną okazję już 6 lutego.\n\n\nSPECJALNIE DLA WAS:\n~
  Pastwa gwiazda i psycholog wieczoru\n~ Emilia Panek ukochana dermosanka\n
 ~ Kixnare b2b Universo (albo na odwrót)\n~ K-Roll certyfikowany i profesj
 onalny monter pralek\n~ Kalor Sz patron zepsutych bojlerów (i nie tylko)\
 n~ Pathar/Piotr najlepszy prezes blaszaka w mieście\n~ VIELD (a)live na 5
 0% lub 100%\n~ DJ SZy prosto z basenu\n~ Libront latka mu lecą\, a nie zm
 ienia się NIC\n(być może i ktoś jeszcze w ramach niespodzianki)\n\nŻY
 CZYMY WSZYSTKIM DOBREJ ZABAWY\, A SZCZEGÓLNIE NAM SAMYM\;\nZAPRASZAMY!!!1
 \n\nWasze ulubione – Kasia&amp\;Marysia
ATTACH;FMTTYPE=image/jpeg:https://night4u.pl/wp-content/uploads/2020/02/15
 0938_image_83606190_4114538368572501_6809973292678512640_o.jpg
CATEGORIES:małopolskie
LOCATION:Święta Krowa\, Floriańska 16\, Kraków\, 31-021\, Poland
GEO:50.0631;19.93992
X-APPLE-STRUCTURED-LOCATION;VALUE=URI;X-ADDRESS=Floriańska 16\, Kraków\, 
 31-021\, Poland;X-APPLE-RADIUS=100;X-TITLE=Święta Krowa:geo:50.0631,19.9
 3992
END:VEVENT
BEGIN:VTIMEZONE
TZID:Europe/Warsaw
X-LIC-LOCATION:Europe/Warsaw
BEGIN:STANDARD
DTSTART:20191027T020000
TZOFFSETFROM:+0200
TZOFFSETTO:+0100
TZNAME:CET
END:STANDARD
END:VTIMEZONE
END:VCALENDAR