BEGIN:VCALENDAR
VERSION:2.0
PRODID:-//wp-events-plugin.com//7.2.3.1//EN
TZID:Europe/Warsaw
X-WR-TIMEZONE:Europe/Warsaw
BEGIN:VEVENT
UID:14522@night4u.pl
DTSTART;TZID=Europe/Warsaw:20190518T210000
DTEND;TZID=Europe/Warsaw:20190519T040000
DTSTAMP:20190430T144500Z
URL:https://night4u.pl/wydarzenia/mashup-night-marcin-s-sobota-18-05/
SUMMARY:Mashup Night: Marcin S. // Sobota 18.05
DESCRIPTION:W sobotę 18 maja zapraszamy na imprezę MASHUP NIGHT. Zmieszam
 y Wam najbardziej taneczne gatunki muzyczne!\n\nGościem specjalnym będzi
 e Marcin S. rezydent klubu Maska w Kielcach\, współtwórca kolektywu DJ-
 skiego  - Niegrzeczni chłopcy! Za konsolą aktywnie od 2006 roku. Zagrał
  między innymi w klubach: Dream (Sopot)\, Tequilarnia (Poznań)\, Level 2
 7 (Warszawa)\, Room 13 (Warszawa)\, House Of Sound (Lublin)\, Malevich (Lw
 ów)\, Rafinad (Lwów).\n\n18 Maja - Sobota\nMuzyka: Marcin S. / Bart Befu
 nk\nStart: 21:00\n★ Bilety: 15 zł\n★ Selekcja: 21+\n★ Dresscode: El
 egant\n\nRezerwacji dokonywać można pod nr. tel: 698 515 670\nW klubie o
 bowiązuje selekcja.
ATTACH;FMTTYPE=image/jpeg:https://night4u.pl/wp-content/uploads/2019/04/36
 126_image_59295013_2666975963377904_5839502578626330624_o.jpg
CATEGORIES:podlaskie
LOCATION:Klub 54\, Aleja Legionów 54 F\, Łomża\, 18-400\, Poland
GEO:53.17119;22.065284
X-APPLE-STRUCTURED-LOCATION;VALUE=URI;X-ADDRESS=Aleja Legionów 54 F\, Łom
 ża\, 18-400\, Poland;X-APPLE-RADIUS=100;X-TITLE=Klub 54:geo:53.17119,22.0
 65284
END:VEVENT
BEGIN:VTIMEZONE
TZID:Europe/Warsaw
X-LIC-LOCATION:Europe/Warsaw
BEGIN:DAYLIGHT
DTSTART:20190331T030000
TZOFFSETFROM:+0100
TZOFFSETTO:+0200
TZNAME:CEST
END:DAYLIGHT
END:VTIMEZONE
END:VCALENDAR