BEGIN:VCALENDAR
VERSION:2.0
PRODID:-//wp-events-plugin.com//7.2.3.1//EN
TZID:Europe/Warsaw
X-WR-TIMEZONE:Europe/Warsaw
BEGIN:VEVENT
UID:40876@night4u.pl
DTSTART;TZID=Europe/Warsaw:20200229T190000
DTEND;TZID=Europe/Warsaw:20200229T220000
DTSTAMP:20200331T141738Z
URL:https://night4u.pl/wydarzenia/mata-100-dni-do-matury-lodz/
SUMMARY:SOLD OUT | Mata / 100 dni do matury / Łódź
DESCRIPTION:KONCERT WYPRZEDANY !\n_____\nZapraszamy na premierowy koncert M
 aty\, promujący jego najnowszy album pt. „100 dni do matury”.\n\nBILE
 TY:\nI pula - 40 zł\nII pula - 50 zł\nIII pula - 60 zł \nhttps://goinga
 pp.pl/evt/2190862/mata-100-dni-do-matury-lodz\n\nUWAGA!\n\nOsoby poniżej 
 16 roku życia mogą wziąć udział w koncercie tylko pod opieką osoby d
 orosłej i na wyłączną odpowiedzialność osoby dorosłej\, pod której
  pieczą pozostaje\, po nabyciu biletów wstępu zarówno dla osoby małol
 etniej jak i dorosłej.\n\nOsoby niepełnoletnie\, które ukończyły 16 l
 at\, mogą uczestniczyć w koncercie pod warunkiem posiadania ważnego bil
 etu oraz podpisanej zgody opiekunów prawnych na uczestnictwo w imprezie.\
 n\nOświadczenie do pobrania:\nhttp://soldoutagencja.pl/oswiadczenie.php
ATTACH;FMTTYPE=image/jpeg:https://night4u.pl/wp-content/uploads/2020/02/12
 6677_image_83883915_2211333632346463_8298901479104708608_o.jpg
CATEGORIES:łódzkie
LOCATION:Lordi's Club\, Piotrkowska 102\, Łódź\, 90-010\, Poland
GEO:51.765169;19.45859
X-APPLE-STRUCTURED-LOCATION;VALUE=URI;X-ADDRESS=Piotrkowska 102\, Łódź\,
  90-010\, Poland;X-APPLE-RADIUS=100;X-TITLE=Lordi's Club:geo:51.765169,19.
 45859
END:VEVENT
BEGIN:VTIMEZONE
TZID:Europe/Warsaw
X-LIC-LOCATION:Europe/Warsaw
BEGIN:STANDARD
DTSTART:20191027T020000
TZOFFSETFROM:+0200
TZOFFSETTO:+0100
TZNAME:CET
END:STANDARD
END:VTIMEZONE
END:VCALENDAR