BEGIN:VCALENDAR
VERSION:2.0
PRODID:-//wp-events-plugin.com//7.2.3.1//EN
TZID:Europe/Warsaw
X-WR-TIMEZONE:Europe/Warsaw
BEGIN:VEVENT
UID:39704@night4u.pl
DTSTART;TZID=Europe/Warsaw:20200402T190000
DTEND;TZID=Europe/Warsaw:20200402T230000
DTSTAMP:20200402T150017Z
URL:https://night4u.pl/wydarzenia/me-and-that-man-02-04-zaklete-rewiry-wro
 claw/
SUMMARY:Postponed: Me And That Man / TBA / Zaklęte Rewiry\, Wrocław
DESCRIPTION:Z wielką przykrością zawiadamiamy\, iż w związku z obecną
  sytuacją epidemiologiczną na świecie trasa Me And That Man zaplanowana
  na kwiecień zostanie przełożona na inny termin⚠️  O nowych termina
 ch będziemy informować na bieżąco na każdym wydarzeniu❗️ Bilety z
 achowują ważność także nie ma potrzeby ich zwrotu🎟 Jeżeli ktoś z
  Państwa chce je zwrócić oczywiście może to zrobić w punkcie zakupu
 🛒\n\n—————————————\n\nNowy album promuje sing
 iel\, któremu towarzyszy wyreżyserowany przez Romana Przylipiaka klip. W
  utworze gościnnie wystąpił Jørgen Munkeby z norweskiego Shining.\nUtw
 ór nazywa się "Run With The Devil"\, a ilustrujący go\, zainspirowany n
 iepowtarzalną atmosferą filmowych klasyków Quentina Tarantino\, teledys
 k można zobaczyć pod tym linkiem: https://youtu.be/ZZyLaPbmdNE\n\nKlip u
 kazuje perypetie uwolnionego z bagażnika samochodu Jørgena\, który  roz
 poczyna swój „bieg z samym diabłem”\, czyli z Nergalem. Od spotkania
  w ponurej uliczce\, szaleńczej jazdy autostradą\, aż do klubu\, w któ
 rym zespół występuje przed rozentuzjazmowanym tłumem – to wszystko m
 ożna zobaczyć w nowym teledysku Me And That Man. Oprócz tego spostrzega
 wczy widz będzie miał do czynienia z różnymi tajemniczymi wskazówkami
 \, symbolami\, ukrytym przekazem.\nTak mówi Nergal o „Run With The Devi
 l”:\n\n„To była świetna zabawa! Kiedy zacząłem planować klip do t
 ego utworu\, chciałem stworzyć coś więcej\, niż zwykły teledysk - ch
 ciałem stworzyć film muzyczny\, który rozpoczyna się w momencie\, w kt
 órym przerwano „Nightride”. Ale nie bierzcie tego wszystkiego zbyt po
 ważnie – przy pomocy pewnych metafor składamy do grobu naszą przeszł
 ość\, bo teraz nadchodzi czas na nowe. Ten klip to bardzo dobry sposób 
 na przedstawienie kolejnego wcielenia M&amp\;TM… ale co będzie dalej? P
 rzygotujcie się na mnóstwo zajebistych rzeczy! ”.\n\n\nMe and That Man
  to zespół\, który powstał z inicjatywy lidera Behemoth\, Adama Nergal
 a Darskiego. Krytycy określają ich muzykę jako połączenie rocka\, mro
 cznego bluesa\, folku i country. Grupa powstała w 2016 roku. Debiutancki 
 album formacji nosił tytuł „Songs of Love and Death” i ukazał się 
 24 marca 2017 roku nakładem brytyjskiej wytwórni Cooking Vinyl. Latem 20
 18 roku nastąpiła zmiana składu zespołu\, ale M&amp\;TM właśnie otwi
 erają nowy rozdział w swojej karierze. Adam Nergal Darski określił M&a
 mp\;TM jako nowy ekscytujący etap w swoim życiu\, który buduje most pom
 iędzy dwoma światami: ekstremalną sceną z której się wywodzi i zupe
 łnie nowym obszarem\, pełnym cieni i znaków zapytania. Muzykę M&amp\;T
 M opisał jako rodzaj wędrówki\, podczas której  człowiek staje twarz
 ą w twarz ze swoimi demonami. Twórczość Me And That Man pokazuje\, że
  Nergal posiada niebywałą umiejętność dostosowania swojego mocnego\, 
 radykalnego przekazu do każdego gatunku muzycznego i że świetnie się w
  każdym z tych gatunków odnajduje. A przecież blues nazywany jest muzyk
 ą diabła…\nWięcej szczegółów z obozu Me And That Man już wkrótce
 ! \n\nhttps://www.facebook.com/meandthatman/ \nhttps://www.instagram.com/m
 eandthatman/ \nhttps://www.youtube.com/meandthatman \nwww.meandthatman.com
  \nhttps://meandthatman.tmstor.es/
ATTACH;FMTTYPE=image/jpeg:https://night4u.pl/wp-content/uploads/2020/03/11
 7596_image_89834855_2840319659389792_619761547429806080_o.jpg
CATEGORIES:dolnośląskie
LOCATION:Zaklęte Rewiry\, Krakowska 100\, Wroclaw\, 50-427\, Poland
GEO:51.090523;17.065898
X-APPLE-STRUCTURED-LOCATION;VALUE=URI;X-ADDRESS=Krakowska 100\, Wroclaw\, 5
 0-427\, Poland;X-APPLE-RADIUS=100;X-TITLE=Zaklęte Rewiry:geo:51.090523,17
 .065898
END:VEVENT
BEGIN:VTIMEZONE
TZID:Europe/Warsaw
X-LIC-LOCATION:Europe/Warsaw
BEGIN:DAYLIGHT
DTSTART:20200329T030000
TZOFFSETFROM:+0100
TZOFFSETTO:+0200
TZNAME:CEST
END:DAYLIGHT
END:VTIMEZONE
END:VCALENDAR