BEGIN:VCALENDAR
VERSION:2.0
PRODID:-//wp-events-plugin.com//7.2.3.1//EN
TZID:Europe/Warsaw
X-WR-TIMEZONE:Europe/Warsaw
BEGIN:VEVENT
UID:40042@night4u.pl
DTSTART;TZID=Europe/Warsaw:20191227T180000
DTEND;TZID=Europe/Warsaw:20191228T070000
DTSTAMP:20191227T215053Z
URL:https://night4u.pl/wydarzenia/mechaniczna-domowka-2/
SUMMARY:Mechaniczna Domówka
DESCRIPTION:Kochani!!\nZapraszamy na Mechaniczną Domówkę!\nZaraz po świ
 ętach\, zgarniajcie ze stołów co tam zostało\, zapraszajcie znajomych 
 i wpadajcie do nas.\nDo tego jeszcze sami sobie będziecie przygrywać do 
 tańca!! Szafę grającą odpalamy i Wy wybieracie sobie muzykę!!\nZapras
 zamy serdecznie\n\nKiedy? 27 grudnia 2019\nWstęp: free\nOtwieramy o 18.00
 \n\nMechaniczna Pomarańcza\nUl. Do Studzienki 61\nhttps://facebook.com/kl
 ubmechaniczna/
ATTACH;FMTTYPE=image/jpeg:https://night4u.pl/wp-content/uploads/2019/12/12
 0617_image_80389843_3237533456273189_8758534117320032256_o.jpg
CATEGORIES:pomorskie
LOCATION:Mechaniczna Pomarańcza\, Do Studzienki 61\, Gdansk\, 80-227\, Pol
 and
GEO:54.369531;18.61039
X-APPLE-STRUCTURED-LOCATION;VALUE=URI;X-ADDRESS=Do Studzienki 61\, Gdansk\,
  80-227\, Poland;X-APPLE-RADIUS=100;X-TITLE=Mechaniczna Pomarańcza:geo:54
 .369531,18.61039
END:VEVENT
BEGIN:VTIMEZONE
TZID:Europe/Warsaw
X-LIC-LOCATION:Europe/Warsaw
BEGIN:STANDARD
DTSTART:20191027T020000
TZOFFSETFROM:+0200
TZOFFSETTO:+0100
TZNAME:CET
END:STANDARD
END:VTIMEZONE
END:VCALENDAR