BEGIN:VCALENDAR
VERSION:2.0
PRODID:-//wp-events-plugin.com//7.2.3.1//EN
TZID:Europe/Warsaw
X-WR-TIMEZONE:Europe/Warsaw
BEGIN:VEVENT
UID:38163@night4u.pl
DTSTART;TZID=Europe/Warsaw:20191220T220000
DTEND;TZID=Europe/Warsaw:20191221T050000
DTSTAMP:20191220T081954Z
URL:https://night4u.pl/wydarzenia/medical-christmas-party/
SUMMARY:Medical Christmas Party
DESCRIPTION:Studenci\, święta tuż tuż\, ale przed przerwą pragniemy za
 prosić Was na Medical Christmas Party!\n\nTego dnia w klubie Bank będzie
 my integrować się ze studentkami i studentami  Wydziału Lekarskiego\, L
 ekarsko-Dentystycznego i Wydziału Nauk o Zdrowiu.  👩‍🔬👨‍🔬
 💃🕺\n\nZaplanujcie odpowiednio Swoje powroty\, ponieważ nie może Wa
 s zabraknąć!\n\nBędzie się działo! 🙆‍♀️🙆‍♂️🔥\n\n
 START: 22.00\n\nPromocje na barze:\n- INFORMACJE WKRÓTCE\n\nNajlepszą op
 rawę muzyczną tego wieczoru zapewni:\nTOM FORESTER\n\nBILETY:\n\nBilety\
 n- WUM 10zł\n- nie WUM 20zł\n\nInformacje o przedsprzedaży zostaną pod
 ane wkrótce
ATTACH;FMTTYPE=image/jpeg:https://night4u.pl/wp-content/uploads/2019/12/10
 9066_image_79482452_2479956542127822_667296579014623232_n.jpg
CATEGORIES:mazowieckie
LOCATION:BANK CLUB\, Mazowiecka 14\, Warsaw\, 00-048\, Poland
GEO:52.23816;21.01309
X-APPLE-STRUCTURED-LOCATION;VALUE=URI;X-ADDRESS=Mazowiecka 14\, Warsaw\, 00
 -048\, Poland;X-APPLE-RADIUS=100;X-TITLE=BANK CLUB:geo:52.23816,21.01309
END:VEVENT
BEGIN:VTIMEZONE
TZID:Europe/Warsaw
X-LIC-LOCATION:Europe/Warsaw
BEGIN:STANDARD
DTSTART:20191027T020000
TZOFFSETFROM:+0200
TZOFFSETTO:+0100
TZNAME:CET
END:STANDARD
END:VTIMEZONE
END:VCALENDAR