BEGIN:VCALENDAR
VERSION:2.0
PRODID:-//wp-events-plugin.com//7.2.3.1//EN
TZID:Europe/Warsaw
X-WR-TIMEZONE:Europe/Warsaw
BEGIN:VEVENT
UID:38291@night4u.pl
DTSTART;TZID=Europe/Warsaw:20191229T220000
DTEND;TZID=Europe/Warsaw:20191230T040000
DTSTAMP:20191229T110522Z
URL:https://night4u.pl/wydarzenia/mefjudi-przez-zycie-z-usmiechem-13/
SUMMARY:MefjuDi - przez życie z uśmiechem
DESCRIPTION:► MefjuDi - Grywa głownie tylko w absie\, właściwie tylko 
 w nim. Bardzo obce są mu inne trójmiejskie parkiety.\n\nStart: 22:00\nWj
 azd: free! // selekcja
ATTACH;FMTTYPE=image/jpeg:https://night4u.pl/wp-content/uploads/2019/12/10
 9495_image_73495199_10157664098828745_7637347572012548096_o.jpg
CATEGORIES:pomorskie
LOCATION:Cafe Absinthe Gdańsk\, Targ Węglowy(Teatr Wybrzeże)\, Gdansk\, 
 80-834\, Poland
GEO:54.350816;18.64826
X-APPLE-STRUCTURED-LOCATION;VALUE=URI;X-ADDRESS=Targ Węglowy(Teatr Wybrze
 że)\, Gdansk\, 80-834\, Poland;X-APPLE-RADIUS=100;X-TITLE=Cafe Absinthe G
 dańsk:geo:54.350816,18.64826
END:VEVENT
BEGIN:VTIMEZONE
TZID:Europe/Warsaw
X-LIC-LOCATION:Europe/Warsaw
BEGIN:STANDARD
DTSTART:20191027T020000
TZOFFSETFROM:+0200
TZOFFSETTO:+0100
TZNAME:CET
END:STANDARD
END:VTIMEZONE
END:VCALENDAR