BEGIN:VCALENDAR
VERSION:2.0
PRODID:-//wp-events-plugin.com//7.2.3.1//EN
TZID:Europe/Warsaw
X-WR-TIMEZONE:Europe/Warsaw
BEGIN:VEVENT
UID:11775@night4u.pl
DTSTART;TZID=Europe/Warsaw:20190406T220000
DTEND;TZID=Europe/Warsaw:20190407T050000
DTSTAMP:20190403T193917Z
URL:https://night4u.pl/wydarzenia/mega-band-x-dj-vibe-x-sobota-6-04/
SUMMARY:MeGa Band x dj Vibe x sobota 6.04
DESCRIPTION:⚡️MeGa Band - jeden z najlepszych zespołów coverowych w P
 olsce pochodzący z naszego miasta\n⚡Kasia Garłukiewicz - cudowna wokla
 ista i wylkan energii na scenie☄️\n⚡️Marek Kubik - genialny muzyk\
 , kompozytor\, aranżer\noraz reszta chłopaków sprawią\, że ta sobota 
 będzie niezapomniana ?\n\n⚡️Tej nocy dj'kę przejmuje nasz trójmiejs
 ki Przyjaciel DJ VIBE Official Profile ??\n\n? Start 22:00 ?\nwstęp / ze 
 względu na komfort i bezpieczeństwo naszych gości zastrzegamy sobie pra
 wo do selekcji\n\nRezerwacje ☎️☎️692 592 594 ☎️☎️\n\n?? Do
  zobaczenia w Wysokich ??
ATTACH;FMTTYPE=image/jpeg:https://night4u.pl/wp-content/uploads/2019/04/30
 245_image_54515559_2335664716710443_3898730986413752320_o.jpg
CATEGORIES:podlaskie
LOCATION:Wysokie Tony\, Marii Skłodowskiej Curie 2\, Białystok\, 15-097\,
  Poland
GEO:53.12982;23.15624
X-APPLE-STRUCTURED-LOCATION;VALUE=URI;X-ADDRESS=Marii Skłodowskiej Curie 2
 \, Białystok\, 15-097\, Poland;X-APPLE-RADIUS=100;X-TITLE=Wysokie Tony:ge
 o:53.12982,23.15624
END:VEVENT
BEGIN:VTIMEZONE
TZID:Europe/Warsaw
X-LIC-LOCATION:Europe/Warsaw
BEGIN:DAYLIGHT
DTSTART:20190331T030000
TZOFFSETFROM:+0100
TZOFFSETTO:+0200
TZNAME:CEST
END:DAYLIGHT
END:VTIMEZONE
END:VCALENDAR