BEGIN:VCALENDAR
VERSION:2.0
PRODID:-//wp-events-plugin.com//7.2.3.1//EN
TZID:Europe/Warsaw
X-WR-TIMEZONE:Europe/Warsaw
BEGIN:VEVENT
UID:50938@night4u.pl
DTSTART;TZID=Europe/Warsaw:20210928T200000
DTEND;TZID=Europe/Warsaw:20210928T213000
DTSTAMP:20210908T144811Z
URL:https://night4u.pl/wydarzenia/mela-koteluk-kwadrofonik-astronomia-poet
 y-baczynski-lublin/
SUMMARY:Mela Koteluk &amp\; Kwadrofonik "Astronomia poety. Baczyński”-Lu
 blin
DESCRIPTION:"Astronomia poety. Baczyński” Mela Koteluk &amp\; Kwadrofoni
 k \nZwycięzca Fryderyka 2021 w kategorii Album Roku Muzyka Poetycka\n\n\n
 Wyjątkowe wydarzenie muzyczne – Mela Koteluk\, Kwadrofonik i ich album 
 „Astronomia poety. Baczyński” z piosenkami na podstawie wierszy Krzys
 ztofa Kamila Baczyńskiego. Wybór poezji\, kompozycje i koncepcja muzyczn
 a projektu są wspólnym dziełem Meli Koteluk oraz Bartka Wąsika\, piani
 sty z kwartetu Kwadrofonik\, który jest również autorem aranżacji.\n--
 -------\nOd samego początku przyświecała nam intencja\, by pokazać Bac
 zyńskiego jako pacyfistę i mistyka\, człowieka zakochanego w życiu. Zd
 ołaliśmy odtworzyć czyste i jasne oblicze Krzysztofa oraz zwrócić uwa
 gę na niezwykłą wrażliwość i uniwersalność jego twórczości. Zdaj
 e się\, że jego błyskotliwe spostrzeżenia na temat świata i ludzi wyn
 ikały bardziej z wybitnego zmysłu obserwacji i intuicji niż\nz doświad
 czenia życiowego\, które zostało tak wcześnie przerwane – mówią ar
 tyści.\n\nKlip do utworu „Drzewa”: https://www.youtube.com/watch?v=UM
 5BgukhpHg\nKlip do utworu „Astronomia”: https://www.youtube.com/watch?
 v=AMn_85Z3izU\nUtwór „Wolność”: https://www.youtube.com/watch?v=kmI
 D5lN9jJo\nUtwór „Niebo”: https://www.youtube.com/watch?v=gCFZcO52EbE\
 n\nMela Koteluk – wokalistka\, autorka tekstów i kompozytorka. Laureatk
 a Fryderyków w kategoriach „Debiut roku”\, „Artystka roku”\, „A
 lbum roku – pop alternatywny” oraz wielu prestiżowych nagród. Popula
 rność zyskała m.in. za sprawą świetnie przyjętego albumu „Spadochr
 on”\, który ukazał się\nw 2012 r. Drugi album „Migracje”\, wydany
  w 2014 r.\, ugruntował pozycję wokalistki\, osiągając status podwójn
 ej platynowej płyty i powtarzając sukces jej debiutanckiego krążka. Je
 sienią 2018 r. ukazała się trzecia płyta artystki – „Migawka”\, 
 która została wyróżniona Fryderykiem 2019 w kategorii „Album roku 
 – pop alternatywny”. Mela ma na swoim koncie setki koncertów w ramach
  festiwali i autorskich tras koncertowych. Współpracowała m.in. z Czes
 ławem Mozilem\, Hanią Rani\, Smolikiem\, Danielem Bloomem czy Fiszem.\n\
 nKwadrofonik – laureat Paszportu „Polityki”\; dzięki niekonwencjona
 lnemu instrumentarium jest jedynym tego typu kwartetem w Polsce i jednym z
  niewielu na świecie. Zespół tworzą pianiści Emilia Sitarz i Bartek W
 ąsik oraz perkusiści Magdalena Kordylasińska-Pękala i Piotr Maślanka 
 (od 2020 r.). Kwadrofonik ma na koncie liczne nagrody\, w tym Grand Prix F
 estiwalu Nowa Tradycja\, nagrodę Europejskiej Unii Radiowej\, zwycięstwo
  w konkursie Folkowy Fonogram Roku za debiutancki album „Folklove” ora
 z „Requiem ludowe” z udziałem Adama Struga. Występowali w większoś
 ci krajów europejskich\, w Azji i obu Amerykach\, m.in. w słynnym Carneg
 ie Hall czy w Filharmonii Berlińskiej. Grali podczas festiwali folkowych 
 i muzyki współczesnej\, a także na scenach filharmonicznych oraz offowy
 ch. Współpracowali m.in. z Dorotą Miśkiewicz\, Janem Komasą czy Artur
 em Rojkiem.\n---------\n„Astronomia poety. Baczyński” // Mela Koteluk
  &amp\; Kwadrofonik to kolejny projekt muzyczny Muzeum Powstania Warszawsk
 iego\, które wydało tak znakomite albumy\, jak „Fogg – pieśniarz Wa
 rszawy” w wykonaniu zespołu Młynarski-Masecki Jazz Camerata Varsoviens
 is\, „Jestem przestrzeń” Moniki Borzym\, „Historie” Andrzeja Smol
 ika\, Natalii Grosiak i Miuosha czy „Placówka ’44” w wykonaniu zesp
 ołu Voo Voo i ich gości.\n\nBilety: https://bit.ly/2QwYs51\n\nOrganizato
 rzy: Randan Music\, Toinen Music\, Mela Koteluk\, Kwadrofonik
ATTACH;FMTTYPE=image/jpeg:https://night4u.pl/wp-content/uploads/2021/08/18
 6065_image_234529814_919120755348582_8160185195612252978_n.jpg
CATEGORIES:lubelskie
LOCATION:Spotkania Kultur\, Plac Teatralny 1\, Lublin\, 20-029\, Poland
GEO:51.247033;22.54863
X-APPLE-STRUCTURED-LOCATION;VALUE=URI;X-ADDRESS=Plac Teatralny 1\, Lublin\,
  20-029\, Poland;X-APPLE-RADIUS=100;X-TITLE=Spotkania Kultur:geo:51.247033
 ,22.54863
END:VEVENT
BEGIN:VTIMEZONE
TZID:Europe/Warsaw
X-LIC-LOCATION:Europe/Warsaw
BEGIN:DAYLIGHT
DTSTART:20210328T030000
TZOFFSETFROM:+0100
TZOFFSETTO:+0200
TZNAME:CEST
END:DAYLIGHT
END:VTIMEZONE
END:VCALENDAR