BEGIN:VCALENDAR
VERSION:2.0
PRODID:-//wp-events-plugin.com//7.2.3.1//EN
TZID:Europe/Warsaw
X-WR-TIMEZONE:Europe/Warsaw
BEGIN:VEVENT
UID:28460@night4u.pl
DTSTART;TZID=Europe/Warsaw:20191215T200000
DTEND;TZID=Europe/Warsaw:20191215T230000
DTSTAMP:20191215T055720Z
URL:https://night4u.pl/wydarzenia/mela-koteluk-migawka-zielona-gora-15-12-
 2019/
SUMMARY:Mela Koteluk Migawka / Zielona Góra / 15.12.2019
DESCRIPTION:Mela Koteluk - wokalistka\, autorka tekstów i kompozytorka. La
 ureatka Fryderyków w kategoriach Debiut Roku\, Artystka Roku\, Album Roku
  Pop Alternatywny\, oraz wielu prestiżowych nagród. \nDo szerokiej publi
 czności trafiła za sprawą świetnie przyjętego albumu „Spadochron”
  który ukazał się w 2012 roku\, promowanego singlem "Melodia ulotna". D
 rugi album „Migracje”\, wydany w 2014 ugruntował pozycję wokalistki\
 , osiągając status podwójnie platynowej płyty i powtarzając tym samym
  sukces jej debiutanckiego krążka. Mela ma na swoim koncie setki koncert
 ów w ramach festiwali i autorskich tras koncertowych\, które wyróżniaj
 ą się plastyczną formą i dopracowaną oprawą wizualną.\nJesienią 20
 18 roku ukazała się trzecia płyta Meli Koteluk „Migawka” . W marcu 
 tego roku Artystka została za ten Album uhonorowana nagrodą Fryderyk 201
 9 w kategorii Album Roku Pop Alternatywny  \n„Migawka” to organiczny a
 lbum – dający oddech wtedy\, gdy jesteśmy przebodźcowani nadmiarem in
 formacji spływających do nas każdego dnia i co do których nie mamy pew
 ności\, że są w ogóle prawdziwe. Ten album\, także poprzez tematy\, j
 akie na nim poruszam i z którymi zmierzyłam się po swojemu\, jest na pe
 wno bardziej świadomy. – mówi Mela Koteluk.
ATTACH;FMTTYPE=image/jpeg:https://night4u.pl/wp-content/uploads/2019/09/65
 899_image_70842391_2711935622172599_2972583471567863808_o.jpg
CATEGORIES:lubuskie
LOCATION:Kawon Piwnica Artystyczna\, Zamkowa 5\, Zielona Góra\, 65-086\, P
 oland
GEO:51.941922;15.502279
X-APPLE-STRUCTURED-LOCATION;VALUE=URI;X-ADDRESS=Zamkowa 5\, Zielona Góra\,
  65-086\, Poland;X-APPLE-RADIUS=100;X-TITLE=Kawon Piwnica Artystyczna:geo:
 51.941922,15.502279
END:VEVENT
BEGIN:VTIMEZONE
TZID:Europe/Warsaw
X-LIC-LOCATION:Europe/Warsaw
BEGIN:STANDARD
DTSTART:20191027T020000
TZOFFSETFROM:+0200
TZOFFSETTO:+0100
TZNAME:CET
END:STANDARD
END:VTIMEZONE
END:VCALENDAR