BEGIN:VCALENDAR
VERSION:2.0
PRODID:-//wp-events-plugin.com//7.2.3.1//EN
TZID:Europe/Warsaw
X-WR-TIMEZONE:Europe/Warsaw
BEGIN:VEVENT
UID:32831@night4u.pl
DTSTART;TZID=Europe/Warsaw:20191107T200000
DTEND;TZID=Europe/Warsaw:20191107T230000
DTSTAMP:20191107T154755Z
URL:https://night4u.pl/wydarzenia/melancholy-hill-zagra-w-alive-support-mo
 ongoat/
SUMMARY:Melancholy Hill zagra w Alive! / Support: Moongoat
DESCRIPTION:Melancholy Hill to zespół założony pod koniec 2015 roku w W
 arszawie przez czterech chłopaków\, którzy postanowili zdjąć płaszcz
 e utkane z konwenansów i odkryć wrażliwe oblicze swoich osobowości. Me
 lancholia – czyli melodie\, które dotykają cienkich strun duszy oraz t
 eksty\, w których nie brakuje wersów o niepokoju\, obawach\, ale także 
 nadziei.\n\nW maju 2016 roku pojawiło się ich pierwsze wydawnictwo - Hel
 lo Heaven EP\, które szybko zdobyło uznanie w opiniotwórczych mediach t
 akich jak Program Trzeci Polskiego Radia czy miesięcznik Teraz Rock. Nast
 ępcą Hello Heaven były single Dym\, Momenty Hala Odlotów\, które zapo
 wiadały krążek Stały Niedosyt wydany w marcu 2019 roku i znalazł uzna
 nie m.in. u Marka Niedźwieckiego czy ponownie w miesięczniku Teraz Rock.
 \n\nOd początku działalności zespół zagrał wiele koncertów klubowyc
 h i plenerowych. m.in. koncert w Studiu im. Agnieszki Osieckiej\, który e
 mitowany był na żywo w Programie Trzecim Polskiego Radia w audycji Piotr
 a Stelmacha. Dzielili jedną scenę z takimi artystami jak Kazik i Kwartet
  ProForma czy Pogodno.\n\nFB:\nhttps://www.facebook.com/Melancholyhillband
 /\n\nYT:\nhttps://www.youtube.com/watch?v=HKFLtp5kxgM\n\nJako support zagr
 a zespół Moongoat\nWrocławski zespół alternatywno-rockowy z wyraźnym
 i wpływami Dream popu\, Indie\, Trip hopu i Funku. Ich muzyka cechuje si
 ę wyrazistym\, często tanecznym rytmem zatopionym w psychodelicznych\, r
 ozmytych dźwiękach gitary i dwóch charakterystycznych\, uzupełniający
 ch się wokalach wspieranych przez syntezatorowe brzmienia. Występują w 
 składzie:\n\nMartyna Dukowicz – wokal\nKuba Dukowicz – wokal i klawis
 ze\nFilip Rochala – bas\nMichał Tomczyk – gitara\nWojtek Wciórka - p
 erkusja\n\n***\n\nBramka 19:00\nStart 20:00\n\n***\n\nBILETY:\n15 zł (prz
 edsprzedaż w klubie)\n25 zł (w dniu koncertu)
ATTACH;FMTTYPE=image/jpeg:https://night4u.pl/wp-content/uploads/2019/10/80
 236_image_71393814_2534556219934166_1634290413961478144_n.jpg
CATEGORIES:dolnośląskie
LOCATION:Alive\, ul. Kolejowa 12\, Wroclaw\, 53-508\, Poland
GEO:51.10138;17.02286
X-APPLE-STRUCTURED-LOCATION;VALUE=URI;X-ADDRESS=ul. Kolejowa 12\, Wroclaw\,
  53-508\, Poland;X-APPLE-RADIUS=100;X-TITLE=Alive:geo:51.10138,17.02286
END:VEVENT
BEGIN:VTIMEZONE
TZID:Europe/Warsaw
X-LIC-LOCATION:Europe/Warsaw
BEGIN:STANDARD
DTSTART:20191027T020000
TZOFFSETFROM:+0200
TZOFFSETTO:+0100
TZNAME:CET
END:STANDARD
END:VTIMEZONE
END:VCALENDAR