BEGIN:VCALENDAR
VERSION:2.0
PRODID:-//wp-events-plugin.com//7.2.3.1//EN
TZID:Europe/Warsaw
X-WR-TIMEZONE:Europe/Warsaw
BEGIN:VEVENT
UID:3747@night4u.pl
DTSTART;TZID=Europe/Warsaw:20190207T200000
DTEND;TZID=Europe/Warsaw:20190208T000000
DTSTAMP:20190116T101604Z
URL:https://night4u.pl/wydarzenia/melo-50-bowling-bilard-beer-pong-_-andy-
 mile-x-cubi-student-4/
SUMMARY:Melo -50% Bowling/Bilard/Beer-Pong _ Andy Mile x Cubi / Student
DESCRIPTION:Student Party pełną parą!\n\nZaczynamy o 20:00 przez cały d
 zień -50% na Bowling.\n\nW tym samym czasie możecie pograć w Beer-Pong\
 , Bilard\, Cymbergaja albo Statki na Shoty!\n\nW każdej chwili do Waszej 
 dyspozycji wieże piwne i jedyne w swoim rodzaju gry piwne :)\n\nListopad 
 pod parasolem dźwięków Andy Mile x Cubi!\n\nNie zwlekajcie\, poczujcie 
 klimat szalonej nieważkosci w Gravitacji! :)\n\n➡ WSTĘP FREE :)\n➡ S
 TART 20:00\n\nWbijaj na grube #MELO!\n\n4.10 CUBI\n11.10 Andy Mile\n25.10 
 Andy Mile\n\nRezerwacje:\n★12 torów bowlingowych\n★ 6 stołów bilard
 owych\n★ Prywatne loże\n★ 2 x Vip Room\n★ Cymbergaj\n★ Beer-Pong\
 n\nRezerwacje:\n? http://bit.ly/2qWKcVb\n☎ 61 646-30-90\n\n#gravitacjapo
 znan #gravitacja #posnania #poznan #halo #melanz #tropical #vibes #bowling
  #nightclub #klubpoznan #party
ATTACH;FMTTYPE=image/jpeg:https://night4u.pl/wp-content/uploads/2019/01/11
 687_image_49749274_2276504205960038_2849344710768590848_n.jpg
CATEGORIES:wielkopolskie
LOCATION:Kręgielnia Gravitacja Poznań - Centrum Rozrywki\, Pleszewska 1\,
  Poznan\, 61-136\, Poland
GEO:52.397128;16.956189
X-APPLE-STRUCTURED-LOCATION;VALUE=URI;X-ADDRESS=Pleszewska 1\, Poznan\, 61-
 136\, Poland;X-APPLE-RADIUS=100;X-TITLE=Kręgielnia Gravitacja Poznań - C
 entrum Rozrywki:geo:52.397128,16.956189
END:VEVENT
BEGIN:VTIMEZONE
TZID:Europe/Warsaw
X-LIC-LOCATION:Europe/Warsaw
BEGIN:STANDARD
DTSTART:20181028T020000
TZOFFSETFROM:+0200
TZOFFSETTO:+0100
TZNAME:CET
END:STANDARD
END:VTIMEZONE
END:VCALENDAR